BEGIN:VCALENDAR
VERSION:2.0
PRODID:-//tapahtumainfo.fi//NONSGML Angeloskooppi//EN
METHOD:REQUEST
BEGIN:VEVENT
UID:20260425T175230-1418019524-tapahtumainfo.fi
DTSTAMP:20260425T175230
DTSTART:20251204T020000Z
DTEND:20260829T020000Z
LOCATION:Tiedemuseo Liekki
SUMMARY:Angeloskooppi
DESCRIPTION:<html><head></head><body>Miten tutkia ja kuvitella enkeleitÃ¤?<br><br>Onko enkeleillÃ¤ sukupuolta? Ovatko enkelit aina hyviÃ¤? Tuleeko ihmisistÃ¤ enkeleitÃ¤ kuoleman jÃ¤lkeen? <br><br>Angeloskooppi-nÃ¤yttely avaa nÃ¤kymiÃ¤ enkelimielikuviin johdattamalla kÃ¤vijÃ¤n Kenen enkelit -tutkimushankkeen pariin. Hankkeen keskiÃ¶ssÃ¤ ovat valokuvataiteilija Hanne Kiiverin valokuvateokset. Niiden ympÃ¤rillÃ¤ punoutuvat yhteen kuvissa esiintyvien ja niitÃ¤ katsovien ihmisten kÃ¤sitykset enkeleistÃ¤, taide- ja kulttuurihistorialliset viittaukset sekÃ¤ uskontotieteen professori Terhi Utriaisen johtaman monitieteisen tutkimusryhmÃ¤n tyÃ¶skentely. NÃ¤yttely osoittaa, miten enkelimielikuvien tutkiminen syventÃ¤Ã¤ ymmÃ¤rrystÃ¤mme paitsi enkeleihin liittyvistÃ¤ kÃ¤sityksistÃ¤ myÃ¶s yleisemmin ihmisyydestÃ¤, luovuudesta, mielikuvituksesta ja tietÃ¤misen tavoista.  <br><br>Kuvataiteilija Hanne Kiiveri inspiroitui vuonna 2020 professori Utriaisen tutkimuspÃ¤ivÃ¤kirjasta EnkeleitÃ¤ tyÃ¶pÃ¶ydÃ¤llÃ¤ ja valokuvasi sen innoittamana teoksen âWicca &amp; her Guardianâ. Kiiveri on ammentanut ideoita teoksiinsa myÃ¶s esimerkiksi irlantilaisen mystikon Lorna Byrnen teoksista sekÃ¤ taidehistorian aarteista, kuten Hugo Simbergin teoksista. PÃ¤Ã¤osa nÃ¤yttelyn valokuvateoksista on syntynyt Kenen enkelit -hankkeessa. NiistÃ¤ uusimmat perustuvat hankkeeseen osallistuneiden vapaaehtoisten omiin muistoihin, kokemuksiin ja mielikuviin. <br><br>NÃ¤yttelyn ovat toteuttaneet Koneen sÃ¤Ã¤tiÃ¶n rahoittama Kenen enkelit -tutkimushanke ja Helsingin yliopiston Tiedemuseo Liekki. <br /><br />  Visit event in our website: <a href='https://tapahtumainfo.fi/tapahtuma/2025/12/angeloskooppi/415237'>Tapahtumainfo.fi</a></body></html>
END:VEVENT
END:VCALENDAR
