BEGIN:VCALENDAR
VERSION:2.0
PRODID:-//tapahtumainfo.fi//NONSGML Ankea Festival//EN
METHOD:REQUEST
BEGIN:VEVENT
UID:20260422T223222-1581491412-tapahtumainfo.fi
DTSTAMP:20260422T223222
DTSTART:20260605T020000Z
DTEND:20260605T020000Z
LOCATION:Hiedanrannan Tehdasaukio
SUMMARY:Ankea Festival
DESCRIPTION:<html><head></head><body><h2>Ankea Festival tuo vaihtoehtorockin ja -metallin kansainväliset nimet Tampereen Hiedanrantaan ensi kesänä!</h2><br /><ul><li><strong>Uusi ulkoilmafestari järjestetään 5.–6. kesäkuuta 2026</strong></li><li><strong>Pääesiintyjinä nähdään Katatonian The Great Cold Distance -albumin 20-vuotisjuhlakeikka sekä progemetallijätti Leprous</strong></li></ul><br /><p>Vaihtoehtoiseen rockiin ja metalliin keskittyvä uusi tapahtuma Ankea Festival nousee kesäkuun alussa Tampereen Hiedanrantaan. Pääosin kansainvälisistä artisteista koostuva ohjelmisto on nyt julkaistu. Hiedanrannan tehdasaukion ympäristössä nähdään 5.–6. kesäkuuta muun muassa ikoninen ruotsalaisyhtye&nbsp;<strong>Katatonia</strong>&nbsp;erittäin harvinaisella The Great Cold Distance -albumin 20-vuotisjuhlakeikalla, norjalainen progemetallijätti&nbsp;<strong>Leprous</strong>, niin ikään norjalainen metallilegenda ja multi-instrumentalisti&nbsp;<strong>Ihsahn</strong>, yhdysvaltalainen instrumentaalirock-legenda&nbsp;<strong>This Will Destroy You</strong>, irlantilainen pitkän linjan post-rock-yhtye&nbsp;<strong>God Is An Astronaut</strong>, islantilainen mystistä post-punkia esittävä&nbsp;<strong>Kaelan Mikla</strong>, ensimmäistä kertaa Suomeen saapuva ranskalainen rock-trio&nbsp;<strong>SLIFT</strong>&nbsp;sekä psykedeelisestä paahdostaan tunnettu kotimainen&nbsp;<strong>Oranssi Pazuzu</strong>. Kaikkiaan festareilla esiintyy 21 vaihtoehtoisen rock- ja metallimusiikin artistia, peräti yhdeksästä eri maasta.</p><br /><p>Festivaali järjestetään Tampereen Hiedanrannan tehdasaukion ympäristössä, jonne odotetaan kahden päivän aikana muutamaa tuhatta täysi-ikäistä musiikin ystävää. Tarkemmat yksityiskohdat festivaalialueesta, tarjoiluista ja oheisohjelmista julkaistaan kevään aikana.</p><br /><p>Ankea Festivalin taustalta löytyy kaksi tamperelaista ohjelmatoimistoa: muun muassa Festivaali-festivaalia järjestävä ja lukuisia indie-artisteja edustava Alt Agency & Management sekä erityisesti raskaan musiikin parissa toimiva Nahka Agency. Järjestäjien tarkoituksena on tarjota raskaan ja progressiivisen rockin ystäville kotoisan kokoinen vaihtoehto massafestivaaleille, hyvien kulkuyhteyksien varrella. Tampereen ratikka kuljettaa käytännössä suoraan festarialueen pääportille, joka on myös lukuisten pyöräreittien varrella.</p><br /><p><strong>Ankea Festival 2026, kaikki esiintyjät:<br><br></strong>Perjantai 5.6.2026</p><br /><p>Leprous (NO)<br>Ihsahn (NO)<br>This Will Destroy You (US)<br>God Is An Astronaut (IE)<br>SLIFT (FR)<br>Kaelan Mikla (IS)<br>Circle<br>Earthside (US)<br>Virta (plays Hurmos)<br>Demonic Death Judge</p><br /><p>Lauantai 6.6.2026</p><br /><p>Katatonia – The Great Cold Distance 20th Anniversary (SE)<br>Oranssi Pazuzu<br>Textures (NL)<br>Green Carnation (NO)<br>Sylvaine (NO)<br>A.A. Williams (UK)<br>Bruce Soord (UK)<br>Ihlo (UK)<br>Vermilia<br>Rioghan<br>Royal Sorrow<br><br><a href="http://www.ankeafestival.com/" target="_blank" rel="noopener noreferrer">www.ankeafestival.com</a></p><br /><br /><p>***<strong></strong></p><br /><p><strong>Esteettömyys:</strong></p><br /><p>Avustaja pääsee tapahtumaan ilmaiseksi avustettavan kanssa samalla lipulla: <strong>kyllä</strong><br>Tapahtumaan on esteetön pääsy pyörätuolilla: <strong>kyllä</strong><br>Tapahtumapaikalla on esteetön WC: <strong>kyllä</strong><br>Tapahtumassa on pyörätuolikoroke: <strong>kyllä</strong></p> <br /><br />  Visit event in our website: <a href='https://tapahtumainfo.fi/tapahtuma/2026/06/ankea-festival/415603'>Tapahtumainfo.fi</a></body></html>
END:VEVENT
END:VCALENDAR
