BEGIN:VCALENDAR
VERSION:2.0
PRODID:-//tapahtumainfo.fi//NONSGML MONSTER JAM | VIP VARIKKOPARTY//EN
METHOD:REQUEST
BEGIN:VEVENT
UID:20260420T073315-573529118-tapahtumainfo.fi
DTSTAMP:20260420T073315
DTSTART:20260509T100000Z
DTEND:20260509T020000Z
LOCATION:Veikkaus Arena
SUMMARY:MONSTER JAM | VIP VARIKKOPARTY
DESCRIPTION:<html><head></head><body> <br /><br />  Visit event in our website: <a href='https://tapahtumainfo.fi/tapahtuma/2026/05/monster-jam-vip-varikkoparty/416006'>Tapahtumainfo.fi</a></body></html>
END:VEVENT
END:VCALENDAR
