BEGIN:VCALENDAR
VERSION:2.0
PRODID:-//tapahtumainfo.fi//NONSGML MONSTER JAM//EN
METHOD:REQUEST
BEGIN:VEVENT
UID:20260420T073300-1227303201-tapahtumainfo.fi
DTSTAMP:20260420T073300
DTSTART:20260509T180000Z
DTEND:20260509T020000Z
LOCATION:Veikkaus Arena
SUMMARY:MONSTER JAM
DESCRIPTION:<html><head></head><body> <br /><br />  Visit event in our website: <a href='https://tapahtumainfo.fi/tapahtuma/2026/05/monster-jam/416007'>Tapahtumainfo.fi</a></body></html>
END:VEVENT
END:VCALENDAR
