BEGIN:VCALENDAR
VERSION:2.0
PRODID:-//tapahtumainfo.fi//NONSGML Mirella | Pyörätuolikatsomo//EN
METHOD:REQUEST
BEGIN:VEVENT
UID:20260422T132247-628346888-tapahtumainfo.fi
DTSTAMP:20260422T132247
DTSTART:20260606T020000Z
DTEND:20260606T020000Z
LOCATION:Allas Live
SUMMARY:Mirella | Pyörätuolikatsomo
DESCRIPTION:<html><head></head><body> <br /><br />  Visit event in our website: <a href='https://tapahtumainfo.fi/tapahtuma/2026/06/mirella-pyoratuolikatsomo/416052'>Tapahtumainfo.fi</a></body></html>
END:VEVENT
END:VCALENDAR
