BEGIN:VCALENDAR
VERSION:2.0
PRODID:-//tapahtumainfo.fi//NONSGML Mirella//EN
METHOD:REQUEST
BEGIN:VEVENT
UID:20260422T130934-681888385-tapahtumainfo.fi
DTSTAMP:20260422T130934
DTSTART:20260606T020000Z
DTEND:20260606T020000Z
LOCATION:Allas Live
SUMMARY:Mirella
DESCRIPTION:<html><head></head><body> <br /><br />  Visit event in our website: <a href='https://tapahtumainfo.fi/tapahtuma/2026/06/mirella/416053'>Tapahtumainfo.fi</a></body></html>
END:VEVENT
END:VCALENDAR
