BEGIN:VCALENDAR
VERSION:2.0
PRODID:-//tapahtumainfo.fi//NONSGML Kulttuuritalon naulakkomaksu 4,50€/hlö: CAT POWER//EN
METHOD:REQUEST
BEGIN:VEVENT
UID:20260424T110201-521829203-tapahtumainfo.fi
DTSTAMP:20260424T110201
DTSTART:20261007T180000Z
DTEND:20261007T020000Z
LOCATION:Kulttuuritalon naulakkomaksut
SUMMARY:Kulttuuritalon naulakkomaksu 4,50€/hlö: CAT POWER
DESCRIPTION:<html><head></head><body> <br /><br />  Visit event in our website: <a href='https://tapahtumainfo.fi/tapahtuma/2026/10/kulttuuritalon-naulakkomaksu-4-50-hlo-cat-power/416174'>Tapahtumainfo.fi</a></body></html>
END:VEVENT
END:VCALENDAR
