BEGIN:VCALENDAR
VERSION:2.0
PRODID:-//tapahtumainfo.fi//NONSGML Laura Voutilainen - Kerran Keväällä//EN
METHOD:REQUEST
BEGIN:VEVENT
UID:20260420T232240-182128739-tapahtumainfo.fi
DTSTAMP:20260420T232240
DTSTART:20260605T200000Z
DTEND:20260605T020000Z
LOCATION:Musine
SUMMARY:Laura Voutilainen - Kerran Keväällä
DESCRIPTION:<html><head></head><body>Keväällä 2026<b> Laura Voutilainen </b>lähtee pitkälle kiertueelle yhdessä <b>Pete Nikkisen</b> kanssa – muusikon, jonka soitossa yhdistyvät tarkkuus, tunne ja vuosien kokemus. Aiempi yhteinen kiertue sai yleisön ja kaksikon innostumaan, ja nyt he palaavat lavalle entistä vahvempina.<br><br>Kerran Keväällä on kiertue, joka kulkee halki Suomen – paikkakunnilta toiselle saleihin, jotka on valittu huolella. Tunnelmalliset tilat tuovat musiikin lähelle ja tekevät jokaisesta konsertista omanlaisensa.<br><br>Illan aikana kuullaan Lauran rakastetuimpia lauluja ja uusia sävelmiä, joihin Peten soitto tuo oman jälkensä. Klassiset soinnit ja modernit pop-tunnelmat elävät rinnakkain, luoden lämpimän ja elävän konserttikokonaisuuden – juuri sen, mitä yleisö Lauralta odottaa, ja vähän enemmänkin.<br><br>Kerran Keväällä – yksi kiertue, monta tarinaa, lukemattomia hetkiä.<br><br>Esityksen kesto on n. 2 tuntia, sisältäen väliajan.<br><br>Tuotanto: Central Line Entertainment <br /><br />  Visit event in our website: <a href='https://tapahtumainfo.fi/tapahtuma/2026/06/laura-voutilainen-kerran-kevaalla/417015'>Tapahtumainfo.fi</a></body></html>
END:VEVENT
END:VCALENDAR
