BEGIN:VCALENDAR
VERSION:2.0
PRODID:-//tapahtumainfo.fi//NONSGML Nils Holgersson ja Villihanhet//EN
METHOD:REQUEST
BEGIN:VEVENT
UID:20260422T114517-1442438996-tapahtumainfo.fi
DTSTAMP:20260422T114517
DTSTART:20260527T100000Z
DTEND:20260527T020000Z
LOCATION:Teatteri Hevosenkenkä, Kotinäyttämö
SUMMARY:Nils Holgersson ja Villihanhet
DESCRIPTION:<html><head></head><body> <br /><br />  Visit event in our website: <a href='https://tapahtumainfo.fi/tapahtuma/2026/05/nils-holgersson-ja-villihanhet/417729'>Tapahtumainfo.fi</a></body></html>
END:VEVENT
END:VCALENDAR
