BEGIN:VCALENDAR
VERSION:2.0
PRODID:-//tapahtumainfo.fi//NONSGML Pohjoisen valo//EN
METHOD:REQUEST
BEGIN:VEVENT
UID:20260423T122337-596388489-tapahtumainfo.fi
DTSTAMP:20260423T122337
DTSTART:20260312T180000Z
DTEND:20260312T020000Z
LOCATION:Carelia-sali, Joensuun kaupunginorkesteri
SUMMARY:Pohjoisen valo
DESCRIPTION:<html><head></head><body>Kansainvälisen Toivo Kuula -laulukilpailun vuoden 2025 voittaja Heikki Hattunen tulkitsee Sibeliuksen ja Kuulan lauluja. Kapellimestarina Anna-Maria Helsing. <br /><br />  Visit event in our website: <a href='https://tapahtumainfo.fi/tapahtuma/2026/03/pohjoisen-valo/418270'>Tapahtumainfo.fi</a></body></html>
END:VEVENT
END:VCALENDAR
