BEGIN:VCALENDAR
VERSION:2.0
PRODID:-//tapahtumainfo.fi//NONSGML SURULLINEN TYTTÖ//EN
METHOD:REQUEST
BEGIN:VEVENT
UID:20260422T175424-1280387886-tapahtumainfo.fi
DTSTAMP:20260422T175424
DTSTART:20260523T180000Z
DTEND:20260523T020000Z
LOCATION:Kulttuurikeskus CAISA
SUMMARY:SURULLINEN TYTTÖ
DESCRIPTION:<html><head></head><body><i>Tragikoominen, rohkea ja runollinen sukellus siihen, mitä tarkoittaa kasvaa ja elää naisena valkoisessa Suomessa.</i><br><br>Kolmen eri sukupolven naisen – Olgan, Pepin ja Erykahin – kautta <b>Surullinen tyttö</b> punoo vaikuttavan kudelman kokemuksista välitilassa kasvavasta minuudesta ja erilaisuuden tuomasta paineesta olla pirstaloitumatta ulkoa määriteltyjen muuttuvien lokerointien avaruuteen. Surullinen tyttö tuo näyttämölle suomalaisen vähemmistön historiaa, nykyhetkeä ja tulevaisuuden kysymyksiä – häpeän, juurettomuuden, vähemmistöstressin ja mielenterveyden haurauden – unohtamatta toivoa, naurua ja yhteistä ihmisyyttä. <br><br>Popista punkkiin soljuvat biisit ja keinujen voiteleva liike luovat kontrastia kipupisteisiin: kuinka rasismi jättää jälkensä mieleen ja kehoon – ja kuinka siitä voi myös selvitä. Tämä esitys kysyy suoraan: Voiko rasismista sairastua? Kuka saa puhua? Ketä kuunnellaan? Ja voiko sille lopulta jopa nauraa? <br><br>Surullinen tyttö on ravisteleva, rohkea ja sydän auki kulkeva moniulotteinen teos, joka antaa äänen niille, joita on pitkään kuunneltu liian vähän. Teos tutkii riehakkaasti yhteiskunnallista yksinäisyyttä käyttäen taiteen maalipyttyjä. Näytelmä kutsuu katsomaan, kuulemaan ja tuntemaan – ja ennen kaikkea, kuulumaan. Tervetuloa yhteiselle matkalle.  Sietämätöntä keveyttä-toivoa-tehtävää-rakkautta-vapautta. <br><br>Käsikirjoitus, sanoitukset ja ohjaus: Kaisla Löyttyjärvi<br>Rooleissa: Emilia Neuvonen, Miriam Shange, Kaisla Löyttyjärvi<br>Dj: Eero Löyttyjärvi<br>Musiikkidramaturgia ja sovitus: Emilia Neuvonen<br>Koreografia: Miriam Shange ja työryhmä<br>Äänisuunnittelu: Eero Löyttyjärvi<br>Nukkesuunnittelija: Heini Maaranen<br>Pukusuunnittelija: Noora Salmi<br>Säveltäjät: Joonas Munck, Matilda Elo, Ville Vuorela, Veera Mäenpää, M. Malkamäki, Mikaela Mansikkala, Tuomas Munck, Aino Munck, Miika Jokinen.<br><br>Tukijat Samuel Huberin taidesäätiö, Kansan Sivistysrahasto<br><br>Esityksen kesto 2 h (sis. Väliajan)<br><br>Kuva: Jenni Haili <br /><br />  Visit event in our website: <a href='https://tapahtumainfo.fi/tapahtuma/2026/05/surullinen-tytto/418554'>Tapahtumainfo.fi</a></body></html>
END:VEVENT
END:VCALENDAR
