BEGIN:VCALENDAR
VERSION:2.0
PRODID:-//tapahtumainfo.fi//NONSGML Gabriel, tule takaisin!//EN
METHOD:REQUEST
BEGIN:VEVENT
UID:20260422T223115-207658327-tapahtumainfo.fi
DTSTAMP:20260422T223115
DTSTART:20260715T140000Z
DTEND:20260715T020000Z
LOCATION:Imatran kesäteatteri
SUMMARY:Gabriel, tule takaisin!
DESCRIPTION:<html><head></head><body> <br /><br />  Visit event in our website: <a href='https://tapahtumainfo.fi/tapahtuma/2026/07/gabriel-tule-takaisin/418991'>Tapahtumainfo.fi</a></body></html>
END:VEVENT
END:VCALENDAR
