BEGIN:VCALENDAR
VERSION:2.0
PRODID:-//tapahtumainfo.fi//NONSGML Bigday Festival 10-11.7.2026//EN
METHOD:REQUEST
BEGIN:VEVENT
UID:20260425T142624-360129816-tapahtumainfo.fi
DTSTAMP:20260425T142624
DTSTART:20260710T160000Z
DTEND:20260710T020000Z
LOCATION:Vaasan Yliopisto Park
SUMMARY:Bigday Festival 10-11.7.2026
DESCRIPTION:<html><head></head><body>Lineup:<br />Alan Walker<br />Miriam Bryant<br />Soppgirobygget<br />Mirella<br />Ares<br />Papi Santana<br />Jokrates<br />Hogland<br />Fjellrev<br />Wewwe<br />Kerza<br />Korelon<br /><br />Two days 129,90€ (U-18/K-18)<br />VIP - Two days 209,90€ (K-18)<br /><br />VIP-guests only:<br />Big raised VIP area with Premium Bars<br />Premium Bar Area<br />Own Premium Toilets (Water Toilets)<br />Different Queue to Festival Area<br />Free cloakroom storing<br />VIP pass<br />Best view to Stage<br />More seats & tables<br /><br />Tickets are exchanged to bracelets.<br />Lost bracelet will not be replaced! <br /><br />  Visit event in our website: <a href='https://tapahtumainfo.fi/tapahtuma/2026/07/bigday-festival-10-11-7-2026/419023'>Tapahtumainfo.fi</a></body></html>
END:VEVENT
END:VCALENDAR
