BEGIN:VCALENDAR
VERSION:2.0
PRODID:-//tapahtumainfo.fi//NONSGML Edu Kettunen - Lainatut lauseet//EN
METHOD:REQUEST
BEGIN:VEVENT
UID:20260425T133444-1980024603-tapahtumainfo.fi
DTSTAMP:20260425T133444
DTSTART:20260514T190000Z
DTEND:20260514T020000Z
LOCATION:Ritz
SUMMARY:Edu Kettunen - Lainatut lauseet
DESCRIPTION:<html><head></head><body>Edu Kettunen on tunnettu oman materiaalinsa lisäksi siitä, että hän uransa varrella tehnyt ison liudan kappaleita myös muille artisteille. Kevään 2026 keikoille Edu tuokin myyntiin "Lainatut Lauseet" levyn, jolla hän itse versioi ensimmäistä kertaa noita kappaleita. <br /><br />(10.4. klo 19.00) !UUSI PÄIVÄMÄÄRÄ 14.5. klo 19.00!<br /><br />Lippu 32 €<br />Eläkeläinen, opiskelija, Ritz-jäsen 29 €<br /><br />K-18 <br /><br />Kesto 2h sis. väliajan.<br /><br />Lainatut Lauseet - kiertueella kuullaan toki Edun omia klassikoita uran varrelta, ja väliin ujutetaan muutamia muille sävellettyjä kappaleita. Kiinnostavia tarina-hetkiä, ja hienoja sävellyksiä odotettavissa siis!<br /><br />Edu Kettunen - laulu, kitara<br />Mika Kuokkanen -  kitara, laulu<br />Mira Vähänikkilä - projisoinnit <br /><br />  Visit event in our website: <a href='https://tapahtumainfo.fi/tapahtuma/2026/05/edu-kettunen-lainatut-lauseet/419034'>Tapahtumainfo.fi</a></body></html>
END:VEVENT
END:VCALENDAR
