BEGIN:VCALENDAR
VERSION:2.0
PRODID:-//tapahtumainfo.fi//NONSGML Tauno ja Ansa - musiikkikomedia//EN
METHOD:REQUEST
BEGIN:VEVENT
UID:20260422T132410-1214917891-tapahtumainfo.fi
DTSTAMP:20260422T132410
DTSTART:20260605T190000Z
DTEND:20260605T020000Z
LOCATION:Lisäpaikat - Vasen ylätasanne
SUMMARY:Tauno ja Ansa - musiikkikomedia
DESCRIPTION:<html><head></head><body>Tauno ja Ansa - musiikkikomedia<br />Tauno Palo ja Ansa Ikonen 50-luvun ikonit<br />Laulukomedian tarinassa eletään 1950-luvun Helsingissä. Nuori Ansa opiskelee laulunopettajaksi ja komea Tauno Palo käy töissä, näyttelee ja tekee elokuvia. Tauno Palon värikäs yksityiselämä tuo vauhdikkaita ja yllättäviäkin käänteitä ja tapahtumia. Ansa joutuu peliin mukaan ja kuinkas siinä sitten käykään… Taunon ja Ansan kulta-ajan tunnetuimmat ja suosituimmat laulut, kuten Kulkurinvalssi, Mustat silmät, Potkut sain ja Laulava sydän kajahtavat laulukomediassa akustisen Heikki Hovin orkesterin tahdittamina.<br /><br />HENKILÖT<br /><br />Tauno Palo - Tommi Soidinmäki<br /><br />Ansa Ikonen - Eeva Saarenpää<br /><br />Lempi taloudenhoitajatar - Merja Kuisma<br /><br />Ingrid Lampenius, viulisti - Liisa Karhu<br /><br />Heikki Hovi, pianisti - Juse Venäläinen<br /><br />Tule viettämään nostalgiatäytteinen ilta maalaismaisemassa!<br /><br />Konsertin kokonaiskesto n. 2h (sis 30min väliaika)<br />Areenan ovet avataan 30min ennen keikkaa.<br /><br /><br />Hinnat sisältävät palvelumaksun.<br /><br />Liput<br />Ennakkolippu 19.1.2026 asti 32€<br />Normaalilippu 34€<br />Ovelta 37€<br />Lapset (alle 15 v.) 20€<br />Ryhmät 31€ /hlö, yli 40 hengen ryhmälle 1 vapaalippu <br /><br />  Visit event in our website: <a href='https://tapahtumainfo.fi/tapahtuma/2026/06/tauno-ja-ansa-musiikkikomedia/419038'>Tapahtumainfo.fi</a></body></html>
END:VEVENT
END:VCALENDAR
