BEGIN:VCALENDAR
VERSION:2.0
PRODID:-//tapahtumainfo.fi//NONSGML Sitä saa mitä tilaa - musiikkikomedia Yölinnun hiteillä//EN
METHOD:REQUEST
BEGIN:VEVENT
UID:20260422T201231-1920553255-tapahtumainfo.fi
DTSTAMP:20260422T201231
DTSTART:20260701T180000Z
DTEND:20260701T020000Z
LOCATION:Hämeenlinnan Uusi Kesäteatteri
SUMMARY:Sitä saa mitä tilaa - musiikkikomedia Yölinnun hiteillä
DESCRIPTION:<html><head></head><body> <br /><br />  Visit event in our website: <a href='https://tapahtumainfo.fi/tapahtuma/2026/07/sita-saa-mita-tilaa-musiikkikomedia-yolinnun-hiteilla/419298'>Tapahtumainfo.fi</a></body></html>
END:VEVENT
END:VCALENDAR
