BEGIN:VCALENDAR
VERSION:2.0
PRODID:-//tapahtumainfo.fi//NONSGML Kaseva//EN
METHOD:REQUEST
BEGIN:VEVENT
UID:20260425T191748-478775785-tapahtumainfo.fi
DTSTAMP:20260425T191748
DTSTART:20260410T020000Z
DTEND:20260410T020000Z
LOCATION:G Livelab Tampere
SUMMARY:Kaseva
DESCRIPTION:<html><head></head><body><p>Lisäkeikka suuren kysynnän vuoksi! Kaseva esiintyy G Livelab Tampereella kahdesti: torstaina 9.4. (lisäkeikka) sekä perjantaina 10.4.<br><br>Kaseva on legendaarinen suomalainen pop rock -yhtye, joka tunnetaan herkästä musiikistaan ja stemmalaulustaan.</p><br /><p>Yhtyeen lukuisat hitit (Mari, Vanha mies, Tyhjää, Striptease tanssija, Pena, Kun maailma elää jne.) ovat osa kansallista muistiamme alkaen jo vuodesta 1974 lähtien.</p><br /><p>Kasevan ensimmäinen aktiivikausi käsitti vuodet 1974-86 ja 2000-luvun alussa yhtye kasattiin uudelleen esiintymään konserttisalehin ja klubeihin ympäri Suomen.</p><br /><p>Uudella kymmenluvulla hetken hiljaiseloa viettänyt Kaseva palasi taas keikoille loppuvuodesta 2015. Nyttemmin yhtyeen alkuperäisen solistin Mikko Jokelan paikalle on liittynyt Mikon itsensä valtuuttamana Popedan alkuperäisen kitaristin Arwo Mikkosen poika Matti Mikkonen.</p><br /><p>Kasevan klassikkobiisit elävät edelleen ja bändin arvokas herkkyys sekä karisma on vain kasvanut vuosien saatossa! Kuulijakunta ulottuu jo kolmanteen sukupolveen.</p><br /><p>Kaseva:<br>Matti Mikkonen, laulu ja kitara<br>Jouko Järvinen, basso ja laulu<br>Nils Jokela, rummut<br>Tommi Kekoni, kitara ja laulu<br>+ Anna Pesonen, koskettimet<br></p><br /><p><a href="https://www.facebook.com/glivelab.tampere/" target="_blank">Facebook - G Livelab Tampere</a> <br><a href="https://www.instagram.com/glivelabtampere/" target="_blank">Instagram - G Livelab Tampere</a><br></p><br /><br /><p>Lipun hinta sisältää 3 € eteispalvelumaksun.</p><br /><p>Tapahtuma toteutetaan pääosin istumakatsomolla.</p><br /><p>Alle kouluikäiset pääsevät keikoille maksutta.</p><br /><p><em>***<br></em></p><br /><p><em> </em></p><br /><p><strong>G LIVELAB TAMPERE - TURVALLISUUSOHJE</strong></p><br /><p>Tutustu ajantasaisiin turvallisuusohjeisiin <a href="https://www.glivelab.fi/tampere/turvallisuus" target="_blank">G Livelab Tampereen sivuilla</a>.<a href="https://www.glivelab.fi/tampere/turvallisuus" target="_blank"></a></p><br /><p>***</p><br /><p><strong>Esteettömyys: </strong><br></p><br /><p>Avustaja pääsee tapahtumaan ilmaiseksi avustettavan kanssa samalla lipulla: <strong>kyllä</strong><br>Tapahtumaan on esteetön pääsy pyörätuolilla: <strong>kyllä </strong><br>Tapahtumapaikalla on esteetön WC: <strong>kyllä</strong><br>Tapahtumassa on pyörätuolikoroke: <strong>ei</strong><br></p><br /><p>Katso tarkemmat esteettömyystiedot <a href="https://glivelab.fi/tampere/info/" target="_blank">G Livelabin sivuilla</a>.<br></p> <br /><br />  Visit event in our website: <a href='https://tapahtumainfo.fi/tapahtuma/2026/04/kaseva/419574'>Tapahtumainfo.fi</a></body></html>
END:VEVENT
END:VCALENDAR
