BEGIN:VCALENDAR
VERSION:2.0
PRODID:-//tapahtumainfo.fi//NONSGML Pelle Miljoona & Pispala Punks//EN
METHOD:REQUEST
BEGIN:VEVENT
UID:20260422T203703-124818160-tapahtumainfo.fi
DTSTAMP:20260422T203703
DTSTART:20260501T020000Z
DTEND:20260501T020000Z
LOCATION:G Livelab Tampere
SUMMARY:Pelle Miljoona & Pispala Punks
DESCRIPTION:<html><head></head><body><p><strong></strong>Vuonna 2025 keikkansa vauhdilla loppuunmyynyt Pelle Miljoona & Pispala Punks palaa G Livelabiin yleisön toiveesta. Tällä kertaa kokoonpano viihdyttää juhlakansaa vappupäivänä!<br><br>Pelle Miljoona & Pispala Punks on energinen erikoiskokoonpano, joka keskittyy soittamaan klassikoita Pellen uran ensimmäisten levyjen ajoilta. Bändin erittäin tiukka LIWE! -albumi ilmestyi huhtikuussa 2025.<br><br>Keikan settilistalla on mm. Mulla menee lujaa, Rakastava voima, Viimeinen syksy, TV, Nuoret sankarit, Väkivalta ja päihdeongelma, Mä vaan pogoon ja Lähdetään kiitämään yms. sekä vieläpä muutama herkkupala Moottoritie on kuuma -albumiltakin.<br><br>Tällä kokoonpanolla Pelle tekee keikkoja harvakseltaan, eli kannattaa ehdottomasti kokea todellisten punk-klassikoiden taika Pelle Miljoonan ja Pispalan Punksin seurassa!</p><br /><p><a href="https://www.facebook.com/glivelab.tampere/" target="_blank">Facebook</a> <br><a href="https://www.instagram.com/glivelabtampere/" target="_blank">Instagram</a> <br> <a href="https://twitter.com/glivelabtampere" target="_blank">Twitter</a></p><br /><br /><p>Lipun hinta sisältää 3 € eteispalvelumaksun.</p><br /><p>Pääosin seisomapaikat, salissa on myös istumapaikkoja.</p><br /><p>Opiskelijalippuihin vaaditaan opiskelijakortti tai muu opiskelutodistus.</p><br /><p><em>***<br></em></p><br /><p><em> </em></p><br /><p><strong>G LIVELAB TAMPERE - TURVALLISUUSOHJE</strong></p><br /><p>Tutustu ajantasaisiin turvallisuusohjeisiin <a href="https://www.glivelab.fi/tampere/turvallisuus" target="_blank">Tampereen G Livelabin sivuilla</a>.<a href="https://www.glivelab.fi/tampere/turvallisuus" target="_blank"></a></p><br /><p>***</p><br /><p><strong>Esteettömyys: </strong><br></p><br /><p>Avustaja pääsee tapahtumaan ilmaiseksi avustettavan kanssa samalla lipulla: <strong>kyllä</strong><br>Tapahtumaan on esteetön pääsy pyörätuolilla: <strong>kyllä </strong><br>Tapahtumapaikalla on esteetön WC: <strong>kyllä</strong><br>Tapahtumassa on pyörätuolikoroke: <strong>ei</strong><br></p><br /><p>Katso tarkemmat esteettömyystiedot <a href="https://glivelab.fi/tampere/info/" target="_blank">G Livelabin sivuilla</a>.<br></p> <br /><br />  Visit event in our website: <a href='https://tapahtumainfo.fi/tapahtuma/2026/05/pelle-miljoona-pispala-punks/419595'>Tapahtumainfo.fi</a></body></html>
END:VEVENT
END:VCALENDAR
