BEGIN:VCALENDAR
VERSION:2.0
PRODID:-//tapahtumainfo.fi//NONSGML Mouhous//EN
METHOD:REQUEST
BEGIN:VEVENT
UID:20260422T194244-931879206-tapahtumainfo.fi
DTSTAMP:20260422T194244
DTSTART:20260501T020000Z
DTEND:20260501T020000Z
LOCATION:Hullu Poro Areena
SUMMARY:Mouhous
DESCRIPTION:<html><head></head><body><h2>10-VUOTISJUHLAVUOTTA VIETTÄNYT MOUHOUS KEVÄÄLLÄ LADABOIS-KLUBIKIERTUEELLE</h2><br /><p>Räjähtävästä liveshow’staan tunnettu Mouhous on viettänyt kuluneena vuonna 10-vuotisjuhlavuottaan kovemmassa iskussa kuin koskaan. Uuden LADABOIS-albumin julkaisun lisäksi syksyn 10-vuotiskiertue oli jättimenestys: 21 keikkaa myytiin loppuun ja yhteensä lähes 17 000 ihmistä oli mukana kokemassa bändin legendaarisen live-energian.<br></p><br /><p>Ensi keväänä Mouhous lähtee LADABOIS-klubikiertueelle, jolla kuullaan jo lähes platinaa striimanneen uuden albumin lisäksi bändin uran isoimmat hitit. Liput kevään kiertueelle tulevat myyntiin 23.12. klo 9.<br></p><br /><p><a id="OWA9160f100-7d7e-f6f0-daee-5f972a6344f7" href="https://warnermusiclive.fi/mouhous">Liput & lisätiedot Warner Music Liven sivuilla</a><br></p><br /><br /><p><strong>Saavuthan ajoissa paikalle!&nbsp;Showtime noin klo 23:30.</strong></p><br /><p><strong>Lipun hintaan sisältyy eteispalvelumaksu 3 €.</strong></p><br /><p><strong>Lippuja myydään ovella, jos jäljellä.</strong></p><br /><p><strong>Esteettömyys:</strong><br></p><br /><p>Avustaja pääsee tapahtumaan ilmaiseksi avustettavan kanssa samalla lipulla: <strong>kyllä</strong></p> <br /><br />  Visit event in our website: <a href='https://tapahtumainfo.fi/tapahtuma/2026/05/mouhous/419596'>Tapahtumainfo.fi</a></body></html>
END:VEVENT
END:VCALENDAR
