BEGIN:VCALENDAR
VERSION:2.0
PRODID:-//tapahtumainfo.fi//NONSGML Marko Hietala & SKOR: King Crimson//EN
METHOD:REQUEST
BEGIN:VEVENT
UID:20260419T203044-1374066432-tapahtumainfo.fi
DTSTAMP:20260419T203044
DTSTART:20260508T020000Z
DTEND:20260508T020000Z
LOCATION:G Livelab Tampere
SUMMARY:Marko Hietala & SKOR: King Crimson
DESCRIPTION:<html><head></head><body><p>King Crimsonin musiikki orkestraalisena sovituksena suurenmoisen Marko Hietalan loistaessa solistina ei jätä ketään kylmäksi. Konsertissa kuullaan King Crimsonin 80-luvun merkittävien albumien "Discipline", "Beat" ja "Three of a Perfect Pair" musiikkia. Orkesteria johtaa kapellimestari/kitaristi Jukka Iisakkila.</p><br /><p>Marko "Marco" Hietala on Suomen kansainvälisesti tunnetuimpia muusikoita. Hietala on Tarot-metalliyhtyeen perustaja, bassokitaristi ja laulaja. Hänet tunnetaan myös Nightwishin entisenä pitkäaikaisena jäsenenä.</p><br /><p>King Crimson on Lontoosta lähtöisin oleva yhtye, joka on progressiivisen rockin ensimmäisiä ja edelleen merkittävimpiä edustajia.</p><br /><p>Marko Hietala, laulu<br>SKOR Seinäjoen kaupunginorkesteri<br>Toni Paananen, rummut ja lyömäsoittimet<br>Jukka Iisakkila, kitara, orkesterinjohto ja sovitus</p><br /><p>Konsertissa on väliaika.<br></p><br /><p><a href="https://www.facebook.com/glivelab.tampere/" target="_blank">Facebook</a> <br><a href="https://www.instagram.com/glivelabtampere/" target="_blank">Instagram</a><br></p><br /><br /><p>Lipun hinta sisältää 3 € eteispalvelumaksun.</p><br /><p>Tapahtuma toteutetaan pääosin istumakatsomolla.</p><br /><p>Alle kouluikäiset pääsevät keikoille maksutta.</p><br /><p><em>***<br></em></p><br /><p><em> </em></p><br /><p><strong>G LIVELAB TAMPERE - TURVALLISUUSOHJE</strong></p><br /><p>Tutustu ajantasaisiin turvallisuusohjeisiin <a href="https://www.glivelab.fi/tampere/turvallisuus" target="_blank">G Livelab Tampereen sivuilla</a>.<a href="https://www.glivelab.fi/tampere/turvallisuus" target="_blank"></a></p><br /><p>***</p><br /><p><strong>Esteettömyys: </strong><br></p><br /><p>Avustaja pääsee tapahtumaan ilmaiseksi avustettavan kanssa samalla lipulla: <strong>kyllä</strong><br>Tapahtumaan on esteetön pääsy pyörätuolilla: <strong>kyllä </strong><br>Tapahtumapaikalla on esteetön WC: <strong>kyllä</strong><br>Tapahtumassa on pyörätuolikoroke: <strong>ei</strong><br></p><br /><p>Katso tarkemmat esteettömyystiedot <a href="https://glivelab.fi/tampere/info/" target="_blank">G Livelabin sivuilla</a>.<br></p> <br /><br />  Visit event in our website: <a href='https://tapahtumainfo.fi/tapahtuma/2026/05/marko-hietala-skor-king-crimson/419602'>Tapahtumainfo.fi</a></body></html>
END:VEVENT
END:VCALENDAR
