BEGIN:VCALENDAR
VERSION:2.0
PRODID:-//tapahtumainfo.fi//NONSGML Shape of Despair + KAUAN//EN
METHOD:REQUEST
BEGIN:VEVENT
UID:20260419T203039-768636408-tapahtumainfo.fi
DTSTAMP:20260419T203039
DTSTART:20260508T020000Z
DTEND:20260508T020000Z
LOCATION:Apollo Turku
SUMMARY:Shape of Despair + KAUAN
DESCRIPTION:<html><head></head><body><h3>Shape of Despair ja KAUAN yhteiskeikoille vuonna 2026!</h3><br /><p>Shape of Despair on uraauurtava suomalainen funeral doom metal -yhtye, joka perustettiin vuonna 1994, alun perin nimellä Raven.</p><br /><p>Yhtye tunnetaan hitaista, tunnelmallisista äänimaisemistaan, jotka yhdistävät murskaavia riffejä melankolisiin melodioihin. Tästä syntyy syvällinen musiikillinen matka, joka tutkii menetyksen ja tyhjyyden teemoja. Tärkeillä albumeillaan, kuten Angels of Distress ja Monotony Fields, bändi on vakiinnuttanut asemansa tunteisiin vetoavan musiikin mestarina.</p><br /><p>Yhtyeen ydinkokoonpanoon kuuluvat Jarno Salomaa ja Tomi Ullgrén sekä Henri Koivula, Natalie Koskinen, Sami Uusitalo ja Samu Ruotsalainen. Bändi luo monumentaalisen&nbsp;soundin, joka toimii sekä sisäisen pimeyden manaajana että elämän syvimpien syvyyksien hyväksymisenä.</p><br /><p>Shape of Despair juhlistaa heidän emotionaalisesti intensiivistä musiikkiaan ja harvinaisia mutta voimakkaita live-esiintymisiään, jotka herättävät syvää itsetutkiskelua. Livenä&nbsp;orkesterin voi nähdä vuonna 2026 toukokuussa Turun Apollossa.</p><br /><p>Kaikilla keikoilla on mukana Wayhome-albumin marraskuussa julkaissut KAUAN. Levyn juhlakeikka Espoon kulttuurikeskuksessa oli loppuunmyyty.</p><br /><p>Wayhome-levy tarjoaa elokuvamaisia näkyjä ja kaunista tunnelmaa. Kunnianhimoinen sävellys kestää 50 minuuttia ja siitä voi nauttia kokonaisena teoksena tai yhden kappaleen kerrallaan.</p><br /><p>Albumin teema on matka – olipa kyseessä sitten todellinen seikkailu tilan ja ajan halki tai psykologinen läpikulku vaikeiden valintojen, menetyksen tai ylösnousemuksen kautta.</p><br /><p>– KAUAN palaa esiintymään Wayhome-albumin materiaalin kanssa keväällä&nbsp;2026. Nähdään keikoilla, KAUAN toivottaa.</p><br /><br /><p><strong></strong><strong>Liput ovelta 27 €, mikäli jäljellä.</strong></p><br /><p>Tiedustelut ja pöytävaraukset seurueille (4-20 hlö.) <strong>apollo@nightclub.fi</strong><br></p><br /><p>Tiedustelut <strong>apollo@nightclub.fi</strong><strong></strong></p> <br /><br />  Visit event in our website: <a href='https://tapahtumainfo.fi/tapahtuma/2026/05/shape-of-despair-kauan/419603'>Tapahtumainfo.fi</a></body></html>
END:VEVENT
END:VCALENDAR
