BEGIN:VCALENDAR
VERSION:2.0
PRODID:-//tapahtumainfo.fi//NONSGML Herra Ylppö//EN
METHOD:REQUEST
BEGIN:VEVENT
UID:20260419T202832-1746468633-tapahtumainfo.fi
DTSTAMP:20260419T202832
DTSTART:20260508T020000Z
DTEND:20260508T020000Z
LOCATION:Möysän Musaklubi
SUMMARY:Herra Ylppö
DESCRIPTION:<html><head></head><body><h2>HERRA YLPPÖ ASTUU RASKAAN ROCKIN PARIIN UUDEN YHTYEENSÄ KANSSA!</h2><br /><div><br></div><br /><p>Herra Ylppö on parhaillaan studiossa uuden rockyhtyeensä kanssa. Luvassa on<br>uusi albumi viiden vuoden tauon jälkeen.  <br><br>Yhtye kantaa ytimekkäästi nimeä Herra Ylppö. Kyseessä on raskaan rockin nimiin vannova bändi, jota tullaan jatkossa kuulemaan niin keikoilla kuin äännitteilläkin. Yhtyeessä soittavat<br>Herra Ylppö (laulu, koneet), Hamid Moeini (kitarat), Kaisa Y (koneet, koskettimet ja laulu) ja J. Savolainen (lyömäsoittimet), joka soitti Herra Ylpön kanssa jo Maj Karma -yhtyeessä. Herra Ylppö -yhtye on<br>parhaillaan studiossa äänittämässä keväällä 2026 julkaistavaa uutta albumia.<br><br>”Siinä missä aiempi IHMISET-yhtye edusti popimpaa linjaa, tämä uusi yhtye astuu raskaan rockin sarjaan elektronisin lisävärein, unohtamatta kitararockin alkuvoimaa”, toteaa Ylppö, joka julkaisi uutta musiikkia viimeksi vuonna 2020.<br><br>Uuden yhtyeen keikoilla kuullaan biisejä Ylpön uran eri aikakausilta. Mukana on hittejä Maj Karman, Ihmisten, Musta Paraatin ja Vain Elämää -ohjelman tuotannoista. Lisäksi yhtye esittää joitakin ennen julkaisemattomia uuden yhtyeen kappaleita.</p><br /><p><strong><br></strong><strong>Möysä:</strong> <a href="http://www.instagram.com/moysanmusaklubi" target="_blank">Instagram</a> |&nbsp;<a href="https://www.facebook.com/moysanmusaklubi/" target="_blank">Facebook</a>&nbsp;|&nbsp;<a href="https://twitter.com/moysanmusaklubi" target="_blank">X</a>&nbsp;| <a href="https://www.youtube.com/channel/UCixNw4ZKRfeDHYgori869bg/videos" target="_blank">Youtube</a><br></p><br /><br /><p><strong>20:00 Ovet<br>20:30 Markku Kustaa<br>21:30 Herra Ylppö&nbsp;</strong></p><br /><p><strong>Liput ovelta &nbsp;32 €</strong><br></p><br /><p><span style="text-decoration: underline;"><span style="text-decoration: underline;"></span></span><strong><strong><strong><strong><span style="text-decoration: underline;"><strong><strong><span style="text-decoration: underline;">Klubikatsomo-lippu</span> </strong> (sisältää keikkalipun)</strong></span></strong></strong></strong></strong><br> - narikka sisältyy hintaan<br> - paikka klubikatsomosta josta erinomainen näkyvyys lavalle, halutessasi istumapaikka<br> - lippu vaihdetaan rannekkeeseen<span style="text-decoration: underline;"><br></span></p><br /><h2><a href="https://moysa.fi/vip/" target="_blank">⭐️ </a><a href="https://moysa.fi/vip/" data-auth="NotApplicable" target="_blank">Aitiovaraukset keikalle tästä</a> ⭐️<br /></h2><br /><p> </p><br /><h3><br></h3><br /><h3>Z-YÖJUNA HELSINKIIN</h3><br /><p>Nyt pääset viikonloppuisin Helsingistä junalla sujuvasti Möysän   <br />musaklubin eli Mössön keikoille Lahteen ja heti keikan jälkeen takaisin.</p><br /><p>Viimeinen Z-juna perjantaisin ja lauantaisin lähtee Lahdesta   <br />Helsinkiin klo 00.30 ja on perillä Helsingissä klo 01.30. Jatkossa   <br />helsinkiläisetkin ehtivät siis katsomaan Mössön perjantain ja lauantain <br />  keikan rauhassa loppuun asti. Virvoittava viiden minuutin kävely   <br />Mössöltä Lahden rautatieasemalle ja VR hoitaa loput!</p><br /><p>Tarkista juna-aikataulut <a href="https://www.vr.fi" target="_blank">VR:n sivuilta</a>.</p><br /><p><strong>Lipun ostaneiden asiakkaiden yhteystiedot luovutetaan järjestäjälle tiedottamista / ohjeistamista varten.</strong></p><br /><p><strong>Pyörätuolilla kulku Mössölle tapahtuu henkilökunnan <br />avustamana sisäpihan kautta. Klubilla pääsee liikkumaan pyörätuolilla <br />rajoitetusti</strong><strong><br></strong></p> <br /><br />  Visit event in our website: <a href='https://tapahtumainfo.fi/tapahtuma/2026/05/herra-ylppo/419604'>Tapahtumainfo.fi</a></body></html>
END:VEVENT
END:VCALENDAR
