BEGIN:VCALENDAR
VERSION:2.0
PRODID:-//tapahtumainfo.fi//NONSGML Mikkelin Teatterin lahjakortti//EN
METHOD:REQUEST
BEGIN:VEVENT
UID:20260425T203004-816862524-tapahtumainfo.fi
DTSTAMP:20260425T203004
DTSTART:20261231T235900Z
DTEND:20261231T020000Z
LOCATION:Mikkelin Teatteri
SUMMARY:Mikkelin Teatterin lahjakortti
DESCRIPTION:<html><head></head><body>Lahjakortin arvo 20€, lahjakortin hinta palvelumaksuineen 22,60€<br>Lahjakortin arvo 30€, lahjakortin hinta palvelumaksuineen 33,60€<br>Lahjakortin arvo 40€, lahjakortin hinta palvelumaksuineen 44,10€<br>Lahjakortin arvo 50€, lahjakortin hinta palvelumaksuineen 54,60€<br>Lahjakortin arvo 60€, lahjakortin hinta palvelumaksuineen 64,60€<br>Lahjakortin arvo 80€, lahjakortin hinta palvelumaksuineen 84,60€<br>Lahjakortin arvo 90€, lahjakortin hinta palvelumaksuineen 94,60€<br>Lahjakortin arvo 100€, lahjakortin hinta palvelumaksuineen 104,60€<br><br>Lahjakortti on voimassa vuoden ostopäivästä.<br><b>Lahjakortti ei käy maksuvälineenä R-kioskilla eikä verkkokaupassa.</b> <br /><br />  Visit event in our website: <a href='https://tapahtumainfo.fi/tapahtuma/2026/12/mikkelin-teatterin-lahjakortti/419759'>Tapahtumainfo.fi</a></body></html>
END:VEVENT
END:VCALENDAR
