BEGIN:VCALENDAR
VERSION:2.0
PRODID:-//tapahtumainfo.fi//NONSGML Rauman Teatterin lahjakortti//EN
METHOD:REQUEST
BEGIN:VEVENT
UID:20260425T202910-671603593-tapahtumainfo.fi
DTSTAMP:20260425T202910
DTSTART:20261231T235900Z
DTEND:20261231T020000Z
LOCATION:Rauman teatteri
SUMMARY:Rauman Teatterin lahjakortti
DESCRIPTION:<html><head></head><body><b>Anna lahjaksi elämys Rauman teatterissa tai Rauman kesäteatterissa!</b><br><br> <br /><br />  Visit event in our website: <a href='https://tapahtumainfo.fi/tapahtuma/2026/12/rauman-teatterin-lahjakortti/419761'>Tapahtumainfo.fi</a></body></html>
END:VEVENT
END:VCALENDAR
