BEGIN:VCALENDAR
VERSION:2.0
PRODID:-//tapahtumainfo.fi//NONSGML SKT LAHJAKORTTI MYYNTIPISTEISIIN//EN
METHOD:REQUEST
BEGIN:VEVENT
UID:20260425T203055-1372623292-tapahtumainfo.fi
DTSTAMP:20260425T203055
DTSTART:20261231T235900Z
DTEND:20261231T020000Z
LOCATION:Suomen Kansallisteatteri
SUMMARY:SKT LAHJAKORTTI MYYNTIPISTEISIIN
DESCRIPTION:<html><head></head><body>Lahjakortin arvo 20€, lahjakortin hinta palvelumaksuineen 22,50€<br>Lahjakortin arvo 30€, lahjakortin hinta palvelumaksuineen 33,50€<br>Lahjakortin arvo 40€, lahjakortin hinta palvelumaksuineen 43,50€<br>Lahjakortin arvo 50€, lahjakortin hinta palvelumaksuineen 54,50€<br>Lahjakortin arvo 60€, lahjakortin hinta palvelumaksuineen 64,50€<br>Lahjakortin arvo 70€, lahjakortin hinta palvelumaksuineen 74,50€<br>Lahjakortin arvo 80€, lahjakortin hinta palvelumaksuineen 84,50€<br>Lahjakortin arvo 90€, lahjakortin hinta palvelumaksuineen 94,50€<br>Lahjakortin arvo 100€, lahjakortin hinta palvelumaksuineen 104,50€<br>Lahjakortin arvo 150€, lahjakortin hinta palvelumaksuineen 154,50€<br>Lahjakortin arvo 200€, lahjakortin hinta palvelumaksuineen 204,50€<br><br><b>Lahjakortti on voimassa yhden (1) vuoden ostopäivästä</b>.<br><br>Huomioithan, että tilausmaksu 1,50 € + 0,65 %/tilaus lisätään summaan vasta ostoskorissa.<br>Lahjakorttia ei voi käyttää maksutapana uuden lahjakortin ostamiseen. <br /><br />  Visit event in our website: <a href='https://tapahtumainfo.fi/tapahtuma/2026/12/skt-lahjakortti-myyntipisteisiin/419762'>Tapahtumainfo.fi</a></body></html>
END:VEVENT
END:VCALENDAR
