BEGIN:VCALENDAR
VERSION:2.0
PRODID:-//tapahtumainfo.fi//NONSGML Sirkus Suosalo: Starman//EN
METHOD:REQUEST
BEGIN:VEVENT
UID:20260425T225845-354207109-tapahtumainfo.fi
DTSTAMP:20260425T225845
DTSTART:20261201T183000Z
DTEND:20261201T020000Z
LOCATION:Suomen Kansallisteatteri, Suuri näyttämö
SUMMARY:Sirkus Suosalo: Starman
DESCRIPTION:<html><head></head><body><p>  Teatteri Sirkus Suosalo esittää Juha Kauppisen näytelmän<br><b>Starman</b><br><i>Martti   Suosalon huippusuositun monologiesityksen lisänäytännöt!</i><br><br>Galaktisen   Keskustoimiston virkamiehet ovat huomanneet luonnonsuojeluksi kutsutun   ilmiön lisäävän suosiotaan, mikä ei sovi Keskustoimiston suunnitelmiin.   Niinpä paikalle lähetetään Starman<b> (Martti   Suosalo)</b>, tähtienvälinen soturi, joka tunkeutuu frogstimulantin   voimalla monologiesitykseen laittamaan asiat kuntoon.<br><br><i>Starman</i>   on hurmaavan satiirinen ja ajankohtainen näytelmä luonnosta ja sen   monimuotoisuuden vaarantumisesta. Näytelmässä luuppi siirtyy paikkoihin,   joissa luonnon tilasta ja ihmiskunnan kohtalosta keskustellaan.   Valokeilassa avautuvat vuorollaan Metsätalousmies, Aktivisti, Varpunen   ja Biologi. Päällimmäisenä hämmentää tähtienvälinen viskaali Starman,   jolla on kova yritys vaikuttaa keikan kulkuun ja kenties koko   ihmiskunnan kehityksen…<br><br>Luontokadon problematiikkaa pohtiva   Starman sai alkunsa loppuvuodesta 2022 Juha Kauppisen ja Martti Suosalon   keskusteluista. Näytelmä kantaesitettiin elokuussa 2024 Teatteri Sirkus   Suosalon teltassa Helsingin Alli Tryggin puistossa ja on sen jälkeen   saanut paikkakunta kerrallaan haltioituneen vastaanoton.<br><br>Martti   Suosalon näyttelemänä ja<b> Raila Leppäkosken</b>   ohjauksessa monologi taipuu minimalistisin vedoin sarjaksi viiltäviä,   ajankohtaisia puheenvuoroja, joiden verevänä ytimenä ovat Suosalon   virtuoosimaiset näyttelijäntaidot.<br>Kauppisen satiirinen   teksti kuvaa surun ja epätoivon varjostamaa aikaa, mutta jostain kohoaa   kaiken aikaa esille naurua. Katsoja saa nauraa, mutta joutuu herkeämättä   miettimään, mille ja kenelle hän lopulta nauraa, hahmoille, toisille   ihmisille vai itselleen?<br><br><b>Suurella näyttämöllä la 19.9., ti   24.11. ja ti 1.12. klo 18:30.</b><br><br><b>Työryhmä</b><br><b>Rooleissa   </b>Martti Suosalo<br><b>Ohjaus</b> Raila Leppäkoski <b>Teksti </b>Juha   Kauppinen<b> Valosuunnittelu </b>Max Wikström <b>Musiikki ja   äänisuunnittelu </b>Jussi Kärkkäinen <b>Puvustuksen   suunnittelu ja toteutus</b> Kirsi Hyvärinen <b>Lavastus ja   rekvisiitta </b>työryhmä Graafinen suunnittelu Hermanni Suppanen ja   Kirsi Hyvärinen <b>Tuotanto </b>Teatteri Sirkus Suosalo<br><br></p><p>  <b>Kesto ja lipunhinnat</b><br><b>Kesto</b> n. 2 h (sisältäen väliajan)</p> <br /><br />  Visit event in our website: <a href='https://tapahtumainfo.fi/tapahtuma/2026/12/sirkus-suosalo-starman/419892'>Tapahtumainfo.fi</a></body></html>
END:VEVENT
END:VCALENDAR
