BEGIN:VCALENDAR
VERSION:2.0
PRODID:-//tapahtumainfo.fi//NONSGML Juliet Jonesin Sydän K-18//EN
METHOD:REQUEST
BEGIN:VEVENT
UID:20260422T132409-1038666349-tapahtumainfo.fi
DTSTAMP:20260422T132409
DTSTART:20260523T210000Z
DTEND:20260523T020000Z
LOCATION:Musine
SUMMARY:Juliet Jonesin Sydän K-18
DESCRIPTION:<html><head></head><body>Juliet Jonesin Sydän keikkailee vuonna 2026 Roistot-kakkosalbuminsa 40-vuotisjuhlan merkeissä. Keikoilla kuullaan Roistot-kappaleiden lisäksi myös kattava otos muita JJS-klassikoita koko uran varrelta. <br /><br />  Visit event in our website: <a href='https://tapahtumainfo.fi/tapahtuma/2026/05/juliet-jonesin-sydan-k-18/419901'>Tapahtumainfo.fi</a></body></html>
END:VEVENT
END:VCALENDAR
