BEGIN:VCALENDAR
VERSION:2.0
PRODID:-//tapahtumainfo.fi//NONSGML KASEVA//EN
METHOD:REQUEST
BEGIN:VEVENT
UID:20260422T130908-1699256292-tapahtumainfo.fi
DTSTAMP:20260422T130908
DTSTART:20260418T180000Z
DTEND:20260418T020000Z
LOCATION:Teatteri Provinssin päänäyttämö
SUMMARY:KASEVA
DESCRIPTION:<html><head></head><body><b>Kaseva</b><br>Matti Mikkonen, laulu ja kitara<br>Jouko Järvinen, basso ja laulu<br>Nils Jokela, rummut<br>Tommi Kekoni, kitara ja laulu<br><br>Kaseva on legendaarinen suomalainen pop rock -yhtye, joka tunnetaan herkästä musiikistaan ja stemmalaulustaan. Yhtyeen lukuisat hitit (Mari, Vanha mies, Tyhjää, Striptease tanssija, Pena, Kun maailma elää jne.) ovat osa kansallista muistiamme alkaen jo vuodesta 1974 lähtien.<br><br>Kasevan ensimmäinen aktiivikausi käsitti vuodet 1974-86 ja 2000-luvun alussa yhtye kasattiin uudelleen esiintymään konserttisaleihin ja klubeihin ympäri Suomen.<br><br>2024 Kaseva vietti 50-vuotisjuhlakiertuettaan konsertoiden loppuunmyydyille saleille.<br><br>Kasevan klassikkobiisit elävät edelleen ja bändin arvokas herkkyys sekä karisma on vain kasvanut vuosien saatossa! Kuulijakunta ulottuu jo kolmanteen sukupolveen. <br /><br />  Visit event in our website: <a href='https://tapahtumainfo.fi/tapahtuma/2026/04/kaseva/419919'>Tapahtumainfo.fi</a></body></html>
END:VEVENT
END:VCALENDAR
