BEGIN:VCALENDAR
VERSION:2.0
PRODID:-//tapahtumainfo.fi//NONSGML HIMOS JUHANNUS - TORSTAI K-18//EN
METHOD:REQUEST
BEGIN:VEVENT
UID:20260423T130329-7424283-tapahtumainfo.fi
DTSTAMP:20260423T130329
DTSTART:20260618T220000Z
DTEND:20260618T020000Z
LOCATION:Himos Park
SUMMARY:HIMOS JUHANNUS - TORSTAI K-18
DESCRIPTION:<html><head></head><body><b>Himos Juhannus täydentää ohjelmansa 14 uudella artistilla – kaikkien aikojen kattaus kesälle 2026</b><br><br>Suomen suurin ja suosituin juhannusfestivaali, <b>Himos Juhannus,</b> juhlitaan tuttuun tapaan Himoksella torstaista sunnuntaihin 18.–20.6.2026. Paikalla livenä ajankohtaisimmat kotimaisen musiikin esiintyjät, kovimmat keikat, juhannusyön ainutkertainen tunnelma ja parhaat ystäväporukat kokoontumassa yhteen.<br><br>Jo aiemmin Himos Juhannukseen on kiinnitetty Suomen suosituin yhtye<b> Haloo Helsinki!</b>, tulikuuma live-esiintyjä <b>KUUMAA</b>, Emma Gaalan ehdokaskuningas ja<i> Menestys on paras tapa kostaa</i> -biisin tekijä <b>Ares</b>, Keski-Suomen ylpeys ja oma poika <b>Lauri Haav</b>, genrejä yhdistelevä <b>Averagekidluke</b>, yksi suosituimmista rap-nimistä<b> Cledos</b> ja muun muassa <i>Demoineista Ystävii</i> -hitistä tunnettu<b> Etta</b>. Tämän lisäksi keskikesällä livenä kuullaan kovassa nosteessa porskuttava <b>Isac Elliot</b>, viime vuosien pop-sensaatio <b>Mirella</b>, “baddie anthemeista” ja näyttävistä keikoistaan tunnettu <b>Sara Bee</b> sekä<b> Kaukua </b><i>10 000 tuntia </i>-radiohitin takaa.<br><br>Uudet artistikiinnitykset tuovat Himos Juhannukseen 2026 entistä enemmän energiaa ja asennetta. Kansainvälisesti noteerattu, räjähtävä ja omaleimainen<b> Käärijä</b> sekä karismaattinen ja hitintekijänä tunnettu <b>Mikael Gabriel</b> johtavat kattauksen kärjessä. Mukana ovat myös melodinen ja moderni<b> MELO</b>, persoonallinen ja vaihtoehtoinen<b> Ahti </b>sekä suorapuheisesta ja koukuttavasta soundistaan tunnettu <b>Mouhous</b>. Ohjelmaa rikastuttavat lisäksi itsevarma ja tyylikäs UMK-finaalissakin nähty <b>KIKI</b>, herkkä ja vahvatunnelmainen <b>Senya</b>, energinen ja ajassa kiinni oleva <b>william</b> sekä uuden aallon rap‑kentän kiinnostavat nimet <b>Korelon, Lage</b> ja<b> Sliki</b>. Kokonaisuuden viimeistelevät hyväntuulinen ja tarttuva <b>good boys</b>, sielukas ja rohkea<b> Alina Burnet </b>sekä omaleimainen festarin esiintyjätoiveissa useasti esiintynyt <b>Bizi</b> – yhdessä he rakentavat Himos Juhannukseen yhden festivaalin historian monipuolisimmista ohjelmakokonaisuuksista.<br><br>Uudet artistijulkaisut vahvistavat entisestään Himos Juhannuksen monipuolista ohjelmakokonaisuutta, jossa kohtaavat suomipopin ja rapin kärkinimet, vahvassa nosteessa olevat uudet tekijät sekä energiset live-esiintyjät.<br><br><i>”Himos Juhannus on sukupolvikokemus ja kesän kohokohta, jossa yhdistyvät ajankohtaisin kotimainen musiikki, ainutlaatuinen juhannusfiilis ja täällä tapaa paljon saman ikäluokan väkeä juhlinnan lomassa. Ikimuistoisinta festarilla ovat uudet kohtaamiset ja asiakkaille yksi tärkein elementti Himos Juhannuksessa ovat omat ystävät uusia tuttavuuksia unohtamatta.”</i> kertoo tapahtuman tuotantopäällikkö Laura Väli‑Torala.<br><br><b>HIMOS JUHANNUS 18.-20.6.2026</b><br><a href="https://www.himosjuhannus.fi" target="_blank">www.himosjuhannus.fi</a><br>@himosjuhannus<br>#thejuhannus #himosjuhannus<br><br>K-18<br><br><b>ESIINTYJÄT</b><br><br><b>Torstai 18.6.</b><br>Käärijä, ibe, Averagekidluke, MELO, Korelon, KIKI, Sara Bee, Mouhous<br><br><b>Perjantai 19.6.</b><br>KUUMAA, Lauri Haav, Cledos, Ahti, Etta, Lage, Senya, KAUKUA, Bizi<br><br><b>Lauantai 20.6.</b><br>Haloo Helsinki!, Isac Elliot, Mirella, Ares, Mikael Gabriel, Sliki, william, good boys, Alina Burnet<br><br>Muutokset ohjelmaan mahdollisia. Tarkista aina ajantasaiset tiedot festivaalin omilta nettisivuilta. <br /><br />  Visit event in our website: <a href='https://tapahtumainfo.fi/tapahtuma/2026/06/himos-juhannus-torstai-k-18/420016'>Tapahtumainfo.fi</a></body></html>
END:VEVENT
END:VCALENDAR
