BEGIN:VCALENDAR
VERSION:2.0
PRODID:-//tapahtumainfo.fi//NONSGML Antti Ketonen: Eka Elämä//EN
METHOD:REQUEST
BEGIN:VEVENT
UID:20260424T114455-1410266810-tapahtumainfo.fi
DTSTAMP:20260424T114455
DTSTART:20260424T190000Z
DTEND:20260424T020000Z
LOCATION:Savoy-teatteri
SUMMARY:Antti Ketonen: Eka Elämä
DESCRIPTION:<html><head></head><body><b>Antti Ketonen - Eka Elämä -levynjulkaisukiertue 2026<br></b><br>Antti Ketonen saapuu ensi keväänä konserttisaleihin Eka Elämä -levynjulkaisukiertueen merkeissä. Uusi albumi ilmestyy<br>ennen kiertuetta, ja yleisö pääsee ensimmäisten joukossa kokemaan sen kappaleet livenä jo julkaistujen sinkkujen sekä tuttujen suosikkien rinnalla.<br><br>Konsertti tarjoaa mahdollisuuden nähdä Antti intiimissä ja vahvasti läsnä olevassa ympäristössä, jossa jokainen laulu rakentaa oman tunnelmansa. Lavalla kuullaan sekä jo julkaistuja sinkkuja että uutta musiikkia, jota Antti on viime vuodet työstänyt suurella sydämellä. Lisää maistiaisia albumilta tulee vielä ennen kiertueen alkua.<br><br>Kiertueella nähdään myös pitkästä aikaa toivottuja fanituotteita, ja mukana on jotain täysin erityistä vain kiertueen yleisölle – tästä kerromme lisää myöhemmin.<br><br>Eka Elämä -kiertue merkitsee paluuta konserttisaleihin, joka tuntuu sekä uudelta että juuri nyt oikealta. Luvassa on<br>lämmin ja eläväinen ilta, joka juhlistaa uutta musiikkia ja kevään taikaa.<br><b><br>Antti Ketonen - Eka Elämä</b><br>la 11.04.2026 Tampere, Tampere-talo<br>to 16.04.2026 Hyvinkää, Hyvinkääsali<br>pe 17.04.2026 Espoo, Sellosali<br>la 18.04.2026 Mikkeli , Mikaeli<br>to 23.04.2026 Turku, Teatro<br>pe 24.04.2026 Helsinki, Savoy-teatteri<br> <br /><br />  Visit event in our website: <a href='https://tapahtumainfo.fi/tapahtuma/2026/04/antti-ketonen-eka-elama/420141'>Tapahtumainfo.fi</a></body></html>
END:VEVENT
END:VCALENDAR
