BEGIN:VCALENDAR
VERSION:2.0
PRODID:-//tapahtumainfo.fi//NONSGML KLAMYDIA K18//EN
METHOD:REQUEST
BEGIN:VEVENT
UID:20260422T035020-1779324475-tapahtumainfo.fi
DTSTAMP:20260422T035020
DTSTART:20260425T230000Z
DTEND:20260425T020000Z
LOCATION:Härmän kylpylä
SUMMARY:KLAMYDIA K18
DESCRIPTION:<html><head></head><body> <br /><br />  Visit event in our website: <a href='https://tapahtumainfo.fi/tapahtuma/2026/04/klamydia-k18/420201'>Tapahtumainfo.fi</a></body></html>
END:VEVENT
END:VCALENDAR
