BEGIN:VCALENDAR
VERSION:2.0
PRODID:-//tapahtumainfo.fi//NONSGML Jokeri Pokeri Box//EN
METHOD:REQUEST
BEGIN:VEVENT
UID:20260426T020842-2035507032-tapahtumainfo.fi
DTSTAMP:20260426T020842
DTSTART:20260514T140000Z
DTEND:20260514T020000Z
LOCATION:Hotel Rantapuisto Auditorio
SUMMARY:Jokeri Pokeri Box
DESCRIPTION:<html><head></head><body><b>JOKERI POKERI BOX - Ihan Simona!</b><br><br>Lasten ja aikuisten legendaarinen kestosuosikki ja TV:stä tuttu maailmanmestari-taikuri Simo Aalto tarjoilee iloa ja riemua koko perheelle yhdessä avustaja-vaimonsa Kirstin kanssa. Uudessa Iloisessa showssa nähdään maailman parhaita taikatemppuja ryyditettynä hyväntuulisella lavashowlla. Simo johdolla kaikenikäiset katsojat pääsevät matkalle taikamaailmaan, jossa mikään ei ole mahdotonta.<br><br>Mukana seikkailevat Simon ja Kirstin eläinkaverit Erkki-kani ja Paloma kyyhky sekä räväkkä rokkaava Omenamato . Ja toki lapset pääsevät auttamaan taikuria lavalle asti! Simon mukaansatempaava esiintyminen takaa, että taikapillerin vaikutus säilyy pitkään, mieli virkistyy ja arjen pyöritys unohtuu. Sanalla sanoen luvassa on laadukasta estradiviihdettä!<br>Esityksen kesto 45 minuuttia. <br /><br />  Visit event in our website: <a href='https://tapahtumainfo.fi/tapahtuma/2026/05/jokeri-pokeri-box/420230'>Tapahtumainfo.fi</a></body></html>
END:VEVENT
END:VCALENDAR
