BEGIN:VCALENDAR
VERSION:2.0
PRODID:-//tapahtumainfo.fi//NONSGML Markku Aro//EN
METHOD:REQUEST
BEGIN:VEVENT
UID:20260425T133641-60871402-tapahtumainfo.fi
DTSTAMP:20260425T133641
DTSTART:20260508T180000Z
DTEND:20260508T020000Z
LOCATION:Vuotalo
SUMMARY:Markku Aro
DESCRIPTION:<html><head></head><body><div dir="ltr" data-wrapper="true">  <div dir="ltr" data-wrapper="true">    <p>      <strong><b>pe 8.5.2026 klo 18 </b></strong><b><br><strong>Markku Aro </strong></b><br><br>    </p>    <p>      <strong><em>Legendaarinen Markku Aro on alansa rautainen       ammattilainen ja kiistatta yksi Suomen suosituimmista       iskelmätähdistä. </em> </strong>    </p>    <p>      Aro on viihdyttänyt yleisöä jo useita vuosikymmeniä. Vuoteen 1968       osui miehen todellinen läpimurtohitti "Käyn uudelleen eiliseen" ja       sitä on seurannut mittava lista suomalaisen yleisön rakastamia       hittejä - "Hyvännäköinen", "Moskiitto", "Jestas sentään", "Oma       kultasein", "Anna kaikkien kukkien kukkia", "Etsin kunnes       löydän sun", "Pois sun vien", "Kun sä vierelläin sateessa oot" ja       "Loit elämälle pohjaa", "Keskiyön aikaan", "Ollaan       lähekkäin"...Aro on edustanut Suomea Euroviisuissa 1971       Koivistolaisten kanssa kappaleella "Tie muuteen päivään". <br><br>    </p>    <p>      Ainutlaatuisen ja pitkän musiikkiuran tehnyt Aro on taiteilija,       jonka yleisö on ottanut kestosuosikikseen. Esiintymislavat       toivottavat miehen Diesel-orkestereineen aina tervetulleeksi. Tämä       ryhmä antaa yleisölle kaikkensa ja heistä huokuu ihailtava rakkaus       musiikkiin ja viihdyttäjän työhön.     </p>    <p>      Keväällä 2015 Markku Aro nähtiin suositussa Tähdet, Tähdet       -TV-ohjelmassa. Iskelmä-Finlandia -palkinto hänelle myönnettiin       4.8.2017. <br><br>    </p>    <p>      Uran ensimmäinen konserttikiertue Markku Aro 70 vuotta -nimellä       järjestettiin vuonna 2019. Markku Aro - Käyn uudelleen eiliseen       -elämäntarina julkaistiin elokuussa 2023 (kirjoittaja Tomi       Lindblom). Menestyksekkäällä Yhdessä-konserttikiertueella Markku       oli 2023–2024 Lea Lavenin, Kai Hyttisen, Marion Rungin ja Esa       Niemisen juhlaorkesterin kanssa. Yhdessä osa 2-kiertue keväällä 2025       samalla kokoonpanolla. Markun 75-vuotisjuhlakonsertti       Tampere-talossa 30.11.2024. <br><b><br></b>    </p>    <p>      <strong><b>Kesto: 2 t sis. väliajan </b></strong><b><br><strong>Liput: 20 € /       15 €</strong></b>    </p>  </div></div> <br /><br />  Visit event in our website: <a href='https://tapahtumainfo.fi/tapahtuma/2026/05/markku-aro/420301'>Tapahtumainfo.fi</a></body></html>
END:VEVENT
END:VCALENDAR
