BEGIN:VCALENDAR
VERSION:2.0
PRODID:-//tapahtumainfo.fi//NONSGML Anatole Muster (CH) K-18//EN
METHOD:REQUEST
BEGIN:VEVENT
UID:20260422T161728-43842245-tapahtumainfo.fi
DTSTAMP:20260422T161728
DTSTART:20260505T190000Z
DTEND:20260505T020000Z
LOCATION:Korjaamo, Kulmasali
SUMMARY:Anatole Muster (CH) K-18
DESCRIPTION:<html><head></head><body>Sveitsiläinen harmonikkailmiö Anatole Muster aloittaa Euroopan kiertueensa Korjaamolta 5.5.!<br><br><br /><br />Anatole Muster määrittelee uudelleen mihin harmonikka pystyy ja tuo aktiivisesti soitinta laajemman yleisön tietoisuuteen. Kokeilunhalu ja innovointi näkyy erityisen hyvin hänen live-esiintymisissään, joissa Anatole soittaa perinteisen nappiharmonikan lisäksi kahta muuta instrumenttia: läppärin näppäimistöä ja MIDI-ohjattua “breathalyzer”-syntetisaattoria, uutta keksintöä, jonka hän on kehittänyt yhdessä insinööri Elio Fistarolin kanssa.<br><br><br /><br />Muster rakentaa maailmanlaajuista yhteistyöverkostoa, jonka jäsenet edustavat monenlaisia musiikillisia suuntauksia. Mukana on Los Angelesin kärkinimiä kuten Kiefer ja Louis Cole, kanadalainen Tennyson sekä eteläafrikkalainen Matthew Field (Beatenberg, M Field). Jazzin ja fuusion puolella hän työskentelee muun muassa huippubasistien Hadrien Feraudin (Ranska) ja Federico Heliodoron (Brasilia) kanssa. Monet näistä tärkeistä yhteistyösuhteista ovat syntyneet Instagramin kautta – ensin tutustuen, sitten yhteisiä musiikillisia intohimoja vähitellen rakentaen. ”Internet-kulttuuri muokkasi minua”, Muster sanoo.<br><br><br /><br />Samalla kun Anatole Musterin yhteistyöt laajenevat, niin esiin nousee yhä selkeämpi, ilmaisuvoimainen ja ennen kaikkea iloinen musiikillinen identiteetti – ja se huomataan. Hänen kappaleitaan on kuunneltu kaikilla alustoilla yhteensä lähes kymmenen miljoonaa kertaa, ja viimeaikaiset keikat – kaksi loppuunmyytyä iltaa Ronnie Scott’sissa, esiintyminen Rio Montreux Jazz Festivalilla sekä täpötäysi Jazz Cafe -levynjulkkari – ovat herättäneet yleisöissä ”aitoakin aidompaa innostusta” tästä ”uskomattomasta lahjakkuudesta”.<br><br> <br /><br />  Visit event in our website: <a href='https://tapahtumainfo.fi/tapahtuma/2026/05/anatole-muster-ch-k-18/420314'>Tapahtumainfo.fi</a></body></html>
END:VEVENT
END:VCALENDAR
