BEGIN:VCALENDAR
VERSION:2.0
PRODID:-//tapahtumainfo.fi//NONSGML MELODIAN VIRRASSA - KAMARIKONSERTTI//EN
METHOD:REQUEST
BEGIN:VEVENT
UID:20260420T031735-1596705064-tapahtumainfo.fi
DTSTAMP:20260420T031735
DTSTART:20260423T183000Z
DTEND:20260423T020000Z
LOCATION:Kotkan konserttitalo
SUMMARY:MELODIAN VIRRASSA - KAMARIKONSERTTI
DESCRIPTION:<html><head></head><body><b>MELODIAN VIRRASSA -KAMARIKONSERTTI </b><br><b>To 23.4. klo 18.30 Kotkan konserttitalo</b><br><br>Kymi Sinfoniettan jousikvartetti:<br>Sergei Tiutiunik, viulu<br>Linda Fogelsone, viulu<br>Margarethe Breit, alttoviulu<br>Aleksandra Petrova, sello<br><br>Dmitri Šostakovitš: <i>Jousikvartetto nro 4 D-duuri, op. 83</i><br>Maurice Ravel: <i>Jousikvartetto F-duuri</i><br><br>Omien muusikoidemme kamarikonsertit on luotu suurella sydämellä ja taiteellisella kunnianhimolla tuoden esiin soittajistomme omia kiinnostuksen kohteita. Tämän torstai-illan iloksi jousiyhtyeellämme on tarjottavanaan kaksi valtavan upeaa jousikvartettoa, joista molemmat liikkuvat syvän tunteellisissa vesissä samalla melodista kauneutta vaalien. Šostakovitšin jousikvartetto nro 4 on syvästi henkilökohtainen ja aikakauden ristiriitoja heijasteleva teos, josta säveltäjä oli itsekin hyvin ylpeä. Ravelin jousikvartetto osoittautui aikanaan säveltäjän ensimmäiseksi suureksi menestykseksi, myös yleisö otti sen innostuneesti vastaan – se on mestarillinen yhdistelmä impressionistista väriä ja eleganttia musiikillista kerrontaa.<br><br>Ei kuulu kausikorttiin.<br> <br /><br />  Visit event in our website: <a href='https://tapahtumainfo.fi/tapahtuma/2026/04/melodian-virrassa-kamarikonsertti/420481'>Tapahtumainfo.fi</a></body></html>
END:VEVENT
END:VCALENDAR
