BEGIN:VCALENDAR
VERSION:2.0
PRODID:-//tapahtumainfo.fi//NONSGML VAPPUKONSERTTI "MEN IN BLACK"//EN
METHOD:REQUEST
BEGIN:VEVENT
UID:20260422T220312-1757024236-tapahtumainfo.fi
DTSTAMP:20260422T220312
DTSTART:20260430T183000Z
DTEND:20260430T020000Z
LOCATION:Kotkan konserttitalo
SUMMARY:VAPPUKONSERTTI "MEN IN BLACK"
DESCRIPTION:<html><head></head><body><b>VAPPUKONSERTTI – ”MEN IN BLACK” </b><br><b>To 30.4. klo 18.30 Kotkan konserttitalo </b><br><br>Kapellimestari: Antti Rissanen<br>Laulusolistit: Mikael Konttinen ja Mikko ”Tökä” Töyssy<br><br>Kymi Sinfoniettan vappuperinne on saavuttanut vuosi toisensa jälkeen valtaisan suosion. Tällä kertaa orkesterin vappua maustaa koomiset ainekset kun<b> Mikko ”Tökä” Töyssy</b> ja <b>Mikael Konttinen</b> ovat lyöneet musiikilliset ja humoristiset hynttyynsä yhteen teemalla ”Men in Black”. Koemme <b>Antti Rissasen</b> johdolla musiikin ja komedian täyttämän esityksen, poikien repertuaariin kuuluvat niin kansainväliset viihdeklassikot kuin kovimmat kotimaiset hitit. Tässä esityksessä spontaaneilta yllätyksiltä ei varmasti voida välttyä! <br /><br />  Visit event in our website: <a href='https://tapahtumainfo.fi/tapahtuma/2026/04/vappukonsertti-men-in-black/420482'>Tapahtumainfo.fi</a></body></html>
END:VEVENT
END:VCALENDAR
