BEGIN:VCALENDAR
VERSION:2.0
PRODID:-//tapahtumainfo.fi//NONSGML SKOR & M. Hietala: Music of king crimson//EN
METHOD:REQUEST
BEGIN:VEVENT
UID:20260423T131501-844838947-tapahtumainfo.fi
DTSTAMP:20260423T131501
DTSTART:20260507T180000Z
DTEND:20260507T020000Z
LOCATION:Seinäjoki-sali
SUMMARY:SKOR & M. Hietala: Music of king crimson
DESCRIPTION:<html><head></head><body> <br /><br />  Visit event in our website: <a href='https://tapahtumainfo.fi/tapahtuma/2026/05/skor-m-hietala-music-of-king-crimson/420587'>Tapahtumainfo.fi</a></body></html>
END:VEVENT
END:VCALENDAR
