BEGIN:VCALENDAR
VERSION:2.0
PRODID:-//tapahtumainfo.fi//NONSGML Chaplin: Kultakuume//EN
METHOD:REQUEST
BEGIN:VEVENT
UID:20260425T202709-53310388-tapahtumainfo.fi
DTSTAMP:20260425T202709
DTSTART:20261203T180000Z
DTEND:20261203T020000Z
LOCATION:Seinäjoki-sali
SUMMARY:Chaplin: Kultakuume
DESCRIPTION:<html><head></head><body> <br /><br />  Visit event in our website: <a href='https://tapahtumainfo.fi/tapahtuma/2026/12/chaplin-kultakuume/420596'>Tapahtumainfo.fi</a></body></html>
END:VEVENT
END:VCALENDAR
