BEGIN:VCALENDAR
VERSION:2.0
PRODID:-//tapahtumainfo.fi//NONSGML Joku Iiris + Jukka Nousiainen//EN
METHOD:REQUEST
BEGIN:VEVENT
UID:20260423T083458-1229756157-tapahtumainfo.fi
DTSTAMP:20260423T083458
DTSTART:20260507T200000Z
DTEND:20260507T020000Z
LOCATION:G Livelab
SUMMARY:Joku Iiris + Jukka Nousiainen
DESCRIPTION:<html><head></head><body> <br /><br />  Visit event in our website: <a href='https://tapahtumainfo.fi/tapahtuma/2026/05/joku-iiris-jukka-nousiainen/420928'>Tapahtumainfo.fi</a></body></html>
END:VEVENT
END:VCALENDAR
