BEGIN:VCALENDAR
VERSION:2.0
PRODID:-//tapahtumainfo.fi//NONSGML Tanssiva sirkus 2.0 - Pyhäjärven näytös//EN
METHOD:REQUEST
BEGIN:VEVENT
UID:20260423T114702-1727102620-tapahtumainfo.fi
DTSTAMP:20260423T114702
DTSTART:20260518T180000Z
DTEND:20260518T020000Z
LOCATION:Keskuskoulu
SUMMARY:Tanssiva sirkus 2.0 - Pyhäjärven näytös
DESCRIPTION:<html><head></head><body><p>  Tanssiopisto Uusikuun vuoden 2026 kevätnäytöskiertueen aloittaa   Pyhäjärven näytös. Näytöksessä tanssivat Pyhäjärven tanssioppilaat sekä   syventävät ryhmät. Mukana myös oppilaiden omia tansseja. Tervetuloa   katsomaan lukuvuoden huipennusta.<br></p><p>  <span class="cf0"><br>  </span></p><p>  <span class="cf0">12-18 -vuotiaat 5,60€</span><br><span class="cf0">Alle   12-vuotiaat vapaa pääsy</span></p> <br /><br />  Visit event in our website: <a href='https://tapahtumainfo.fi/tapahtuma/2026/05/tanssiva-sirkus-2-0-pyhajarven-naytos/420930'>Tapahtumainfo.fi</a></body></html>
END:VEVENT
END:VCALENDAR
