BEGIN:VCALENDAR
VERSION:2.0
PRODID:-//tapahtumainfo.fi//NONSGML Tanssiva sirkus 2.0 - Haapajärven näytös//EN
METHOD:REQUEST
BEGIN:VEVENT
UID:20260420T131837-397538500-tapahtumainfo.fi
DTSTAMP:20260420T131837
DTSTART:20260519T180000Z
DTEND:20260519T020000Z
LOCATION:Haapajärven monitoimitalo
SUMMARY:Tanssiva sirkus 2.0 - Haapajärven näytös
DESCRIPTION:<html><head></head><body><p>  Tanssiopisto Uusikuun vuoden 2026 kevätnäytöskiertueen Haapajärven   näytös. Näytöksessä tanssivat Reisjärven ja Haapajärven tanssioppilaat   sekä syventävät ryhmät. Mukana myös oppilaiden omia tansseja. Tervetuloa   katsomaan lukuvuoden huipennusta.<br><br></p><p>  <span class="cf0">12-18 -vuotiaat 5,60€</span><br><span class="cf0">Alle   12-vuotiaat vapaa pääsy</span></p> <br /><br />  Visit event in our website: <a href='https://tapahtumainfo.fi/tapahtuma/2026/05/tanssiva-sirkus-2-0-haapajarven-naytos/420934'>Tapahtumainfo.fi</a></body></html>
END:VEVENT
END:VCALENDAR
