BEGIN:VCALENDAR
VERSION:2.0
PRODID:-//tapahtumainfo.fi//NONSGML KINO CAISA: I Don't Dream of Labour//EN
METHOD:REQUEST
BEGIN:VEVENT
UID:20260426T035333-1001129215-tapahtumainfo.fi
DTSTAMP:20260426T035333
DTSTART:20260602T190000Z
DTEND:20260602T020000Z
LOCATION:Kulttuurikeskus CAISA
SUMMARY:KINO CAISA: I Don't Dream of Labour
DESCRIPTION:<html><head></head><body> <br /><br />  Visit event in our website: <a href='https://tapahtumainfo.fi/tapahtuma/2026/06/kino-caisa-i-don-t-dream-of-labour/420969'>Tapahtumainfo.fi</a></body></html>
END:VEVENT
END:VCALENDAR
