BEGIN:VCALENDAR
VERSION:2.0
PRODID:-//tapahtumainfo.fi//NONSGML PEKKA POHJOLAN IKUISET SÄVELET//EN
METHOD:REQUEST
BEGIN:VEVENT
UID:20260420T031445-1950832816-tapahtumainfo.fi
DTSTAMP:20260420T031445
DTSTART:20260423T180000Z
DTEND:20260423T020000Z
LOCATION:Mikaeli, Martti Talvela -sali
SUMMARY:PEKKA POHJOLAN IKUISET SÄVELET
DESCRIPTION:<html><head></head><body><b>PEKKA POHJOLAN IKUISET SÄVELET<br><br>to 23.4.2026 klo 18, Mikaeli</b><br><br><b>Jukka Iisakkila</b>, sähkökitara, piano, orkesterin johto<br><b>Ville Ojanen</b>, viulu<br><b>Niko Ronimus,</b> perkussiot<br><br>Pekka Pohjola (1952–2008) oli usean vuosikymmenten ajan yksi monipuolisimmista kansainvälisesti tunnetuimmista suomalaisista säveltäjistä ja muusikoista. Klassisen musiikkitaustan omaava Pohjola tuli tunnetuksi niin progressiivista rockia soittaneen Wigwam-yhtyeen virtuoosibasistina kuin vahvojen sävellyksien melodisena mestarina.<br><br>Pohjolan sävellykset ja melodiat vetoavat moniin, ajassa eteenpäin kantava oma musiikillinen kieli ja tyyli liittävät ne kulttuurimme ikuisiin säveliin.<br><br>Mikkelin kaupunginorkesteri ja Jukka Iisakkila, Ville Ojanen sekä Niko Ronimus ammentavat Pohjolan laajasta tuotannosta useita helmiä yleisön nautittavaksi, vahvoja tulkinnoista herkkiin hetkiin. Teokset on sovittanut Jukka Iisakkila Pohjolan laajasta tuotannosta aina säveltäjän ensimmäisistä tuotannoista viimeisiin.<br><br>Ohjelmassa kuullaan mm. teokset <i>Alku, Matemaatikon lentonäytös, Agnus Dei, Virtojen kiharat ja Viekkaan veisu, Heavy Jazz </i>ja<i> Pewit.</i><br><br><b>TAITEILIJAVARTTI KLO 17.30 Mikaelin lämpiössä</b> <br /><br />  Visit event in our website: <a href='https://tapahtumainfo.fi/tapahtuma/2026/04/pekka-pohjolan-ikuiset-savelet/420992'>Tapahtumainfo.fi</a></body></html>
END:VEVENT
END:VCALENDAR
