BEGIN:VCALENDAR
VERSION:2.0
PRODID:-//tapahtumainfo.fi//NONSGML DJ Orion//EN
METHOD:REQUEST
BEGIN:VEVENT
UID:20260420T205154-500233309-tapahtumainfo.fi
DTSTAMP:20260420T205154
DTSTART:20261205T020000Z
DTEND:20261205T020000Z
LOCATION:Tavara-asema
SUMMARY:DJ Orion
DESCRIPTION:<html><head></head><body><h4>Orion palaa Tavara-asemalle vuoden 2026 ainoalle Tampereen keikalle itsenäisyyspäivän aattona 5.12.2026.</h4><br /><p>Eeppinen ilta on samalla ainutkertainen päätösjuhla 19 vuoden matkalle YleX:llä. Orion tekee viimeisen livelähetyksensä kanavalla joulukuun lopussa ja nousee Tampereella lavalle nostamaan maljan niin kansainvälisestikin huomioidulle radioyhteisölle ja eeppisimmille perjantai-iltojen klassikoille.</p><br /><p>Edellisvuoden Tavara-aseman ilta oli ennakkoon loppuunmyyty. Joulukuun päätösjuhlaan Tavara-asemalle kokoontuvat yhteen niin perjantai-iltojen radio-ohjelmien kuin konemusiikin klassikoiden fiilistelijät täyspitkän illan ajaksi.</p><br /><br /><p><strong>Eteispalvelu sisältyy lipun hintaan.</strong></p><br /><p><strong><strong><strong>Konsertti on seisova tapahtuma, istuimia hyvin rajoitetusti.</strong></strong><br></strong></p><br /><p><strong>Lipun hinta nousee Tiketissä tapahtumapäivänä ovien auetessa <br />ja myynti jatkuu verkkokaupassa ovien auettua, mikäli lippuja on <br />jäljellä. </strong><strong>Lipun hinta ovien auettua 18 €.<br></strong></p><br /><p><strong></strong></p><br /><p><strong><strong><strong><strong><strong>Tarkista soittoajat: <a href="https://www.tavara-asema.fi/" target="_blank">www.tavara-asema.fi</a></strong></strong></strong></strong></strong></p><br /><p><strong><strong>****</strong></strong></p><br /><p></p><br /><p><strong><strong>Tutustu Tavara-aseman <a href="https://tavara-asema.fi/info/" target="_blank">turvallisemman tilan periaatteisiin</a>.</strong></strong><strong><br></strong></p><br /><p><strong><strong><strong>Asiakkaana olevan henkilön avustaja pääsee tapahtumaan asiakkaan kanssa samalla lipulla.</strong></strong></strong></p><br /><p><strong><strong><a href="https://tavara-asema.fi/info/esteettomyys-ja-saavutettavuus/" target="_blank">Lue lisätietoa esteettömyydestä!</a></strong></strong></p> <br /><br />  Visit event in our website: <a href='https://tapahtumainfo.fi/tapahtuma/2026/12/dj-orion/421840'>Tapahtumainfo.fi</a></body></html>
END:VEVENT
END:VCALENDAR
