BEGIN:VCALENDAR
VERSION:2.0
PRODID:-//tapahtumainfo.fi//NONSGML Kunniavieraat - Rovaniemen taidemuseo 40 vuotta//EN
METHOD:REQUEST
BEGIN:VEVENT
UID:20260425T001426-208279279-tapahtumainfo.fi
DTSTAMP:20260425T001426
DTSTART:20260508T020000Z
DTEND:20270207T020000Z
LOCATION:Rovaniemen taidemuseo Korundi
SUMMARY:Kunniavieraat - Rovaniemen taidemuseo 40 vuotta
DESCRIPTION:<html><head></head><body>NÃ¤yttelyyn on valittu niin yleisÃ¶n kuin museohenkilÃ¶kunnankin suosikkeja rovaniemelÃ¤isten omasta, Jenny ja Antti Wihurin rahaston kokoelmasta. Mukana on sekÃ¤ teoksia ihka ensimmÃ¤isestÃ¤ museonÃ¤yttelystÃ¤ ettÃ¤ aivan viimeisimpiÃ¤ hankintoja suomalaisen taidekentÃ¤n huippunimiltÃ¤.<br><br>NÃ¤yttely on kunnianosoitus taiteilijoille, jotka ovat olleet museon tarinassa lÃ¤snÃ¤ eri vuosikymmeninÃ¤. Kunniavieraita ovat niin ikÃ¤Ã¤n kokoelmateoksemme sekÃ¤ yleisÃ¶, joka on ottanut ne vuosien saatossa omakseen.<br><br>LÃ¤mpimÃ¤sti tervetuloa juhlimaan kanssamme - kunniavierainamme!<br><br>***<br><br>Rovaniemen taidemuseon tarina sai alkunsa 17. lokakuuta 1986, kun Jenny ja Antti Wihurin rahasto lahjoitti taidekokoelmansa Rovaniemen kaupungille. Wihurin rahaston kokoelma on kasvanut vuosien saatossa noin 500 teoksesta lÃ¤hes 4000 teoksen kokoelmaksi ja on nyt yksi merkittÃ¤vimmistÃ¤ suomalaisen nykytaiteen kokoelmista.<br><br>NÃ¤yttely on saanut nimensÃ¤ Paula Lehtosen teoksesta Kunniavieraat (2024). <br /><br />  Visit event in our website: <a href='https://tapahtumainfo.fi/tapahtuma/2026/05/kunniavieraat-rovaniemen-taidemuseo-40-vuotta/421861'>Tapahtumainfo.fi</a></body></html>
END:VEVENT
END:VCALENDAR
