BEGIN:VCALENDAR
VERSION:2.0
PRODID:-//tapahtumainfo.fi//NONSGML P!NK//EN
METHOD:REQUEST
BEGIN:VEVENT
UID:20260422T114053-194089262-tapahtumainfo.fi
DTSTAMP:20260422T114053
DTSTART:20260426T200000Z
DTEND:20260426T020000Z
LOCATION:
SUMMARY:P!NK
DESCRIPTION:<html><head></head><body> <br /><br />  Visit event in our website: <a href='https://tapahtumainfo.fi/tapahtuma/2026/04/p-nk/421973'>Tapahtumainfo.fi</a></body></html>
END:VEVENT
END:VCALENDAR
