BEGIN:VCALENDAR
VERSION:2.0
PRODID:-//tapahtumainfo.fi//NONSGML Hamilton (Touring)//EN
METHOD:REQUEST
BEGIN:VEVENT
UID:20260422T131308-1605028019-tapahtumainfo.fi
DTSTAMP:20260422T131308
DTSTART:20260523T193000Z
DTEND:20260523T020000Z
LOCATION:
SUMMARY:Hamilton (Touring)
DESCRIPTION:<html><head></head><body> <br /><br />  Visit event in our website: <a href='https://tapahtumainfo.fi/tapahtuma/2026/05/hamilton-touring/422006'>Tapahtumainfo.fi</a></body></html>
END:VEVENT
END:VCALENDAR
