BEGIN:VCALENDAR
VERSION:2.0
PRODID:-//tapahtumainfo.fi//NONSGML Michael Bolton//EN
METHOD:REQUEST
BEGIN:VEVENT
UID:20260424T134310-1799981250-tapahtumainfo.fi
DTSTAMP:20260424T134310
DTSTART:20261021T200000Z
DTEND:20261021T020000Z
LOCATION:
SUMMARY:Michael Bolton
DESCRIPTION:<html><head></head><body> <br /><br />  Visit event in our website: <a href='https://tapahtumainfo.fi/tapahtuma/2026/10/michael-bolton/422046'>Tapahtumainfo.fi</a></body></html>
END:VEVENT
END:VCALENDAR
