BEGIN:VCALENDAR
VERSION:2.0
PRODID:-//tapahtumainfo.fi//NONSGML The Purple Xperience//EN
METHOD:REQUEST
BEGIN:VEVENT
UID:20260424T134338-353052916-tapahtumainfo.fi
DTSTAMP:20260424T134338
DTSTART:20261022T193000Z
DTEND:20261022T020000Z
LOCATION:
SUMMARY:The Purple Xperience
DESCRIPTION:<html><head></head><body> <br /><br />  Visit event in our website: <a href='https://tapahtumainfo.fi/tapahtuma/2026/10/the-purple-xperience/422047'>Tapahtumainfo.fi</a></body></html>
END:VEVENT
END:VCALENDAR
