BEGIN:VCALENDAR
VERSION:2.0
PRODID:-//tapahtumainfo.fi//NONSGML Anna Sinebrychoff â EdellÃ¤kÃ¤vijÃ¤//EN
METHOD:REQUEST
BEGIN:VEVENT
UID:20260425T142022-1964876674-tapahtumainfo.fi
DTSTAMP:20260425T142022
DTSTART:20260303T020000Z
DTEND:20270829T020000Z
LOCATION:Sinebrychoffin taidemuseo
SUMMARY:Anna Sinebrychoff â EdellÃ¤kÃ¤vijÃ¤
DESCRIPTION:<html><head></head><body>Anna Sinebrychoff (1830â1904) sai porvaristytÃ¶n koulutuksen, avioitui vuonna 1850 menestyneen liikemiehen Paul Sinebrychoffin (1799â1883) kanssa ja he saivat neljÃ¤ lasta. HÃ¤n saavutti miehensÃ¤ kuoleman jÃ¤lkeen Suomen oloissa harvinaisen aseman suuryrityksen enemmistÃ¶osakkaana ja hallituksen puheenjohtajana. Annasta tuli tunnetun Sinebrychoffin panimosuvun merkittÃ¤vin nainen 1800-luvun jÃ¤lkipuolella. MÃ¤Ã¤rÃ¤tietoisella otteella hÃ¤n johti perhettÃ¤Ã¤n ja valvoi kahden poikansa toimintaa yrityksen johtajina. HÃ¤n oli suvun kiistaton matriarkka ja kunnioitettu isoÃ¤iti. Anna Sinebrychoff kuoli vuonna 1904. Lukuisissa muistokirjoituksissa huomioitiin hÃ¤nen laajamittainen hyvÃ¤ntekevÃ¤isyystyÃ¶nsÃ¤.   <br> <br>Annasta on tehty poikkeuksellisen hieno muotokuvien sarja, joka osaltaan kertoo hÃ¤nen merkittÃ¤vyydestÃ¤Ã¤n. 1800-luvun tunnetuin muotokuvamaalari Albert Edelfelt teki hÃ¤nestÃ¤ neljÃ¤ isokokoista muotokuvaa, jotka nÃ¤hdÃ¤Ã¤n nyt ensimmÃ¤istÃ¤ kertaa yhdessÃ¤. 1890-luvulla Anna tilasi vielÃ¤ kaksi muotokuvaa itsestÃ¤Ã¤n taiteilija Gunnar Berndtsonilta, jotka ovat nyt ensimmÃ¤istÃ¤ kertaa julkisesti esillÃ¤. <br> <br>NÃ¤yttely tuo kattavasti esiin Anna Sinebrychoffin elÃ¤mÃ¤n ja toiminnan HelsingissÃ¤ 1850-luvulta alkaen. Sen keskiÃ¶ssÃ¤ on Anna aktiivisena vaikuttajana: perheen ja liiketoiminnan vastuunkantajana, hyvÃ¤ntekijÃ¤nÃ¤, yhdistystoimijana ja ortodoksisen seurakunnan jÃ¤senenÃ¤. NÃ¤yttely asettaa Annan keskelle oman aikansa yhteiskunnallisia ja taloudellisia muutoksia. NÃ¤yttelyn kuraattori on intendentti, FT Ira WestergÃ¥rd ja nÃ¤yttelyarkkitehtuurista vastaa muotoilija Lauri Johansson. <br /><br />  Visit event in our website: <a href='https://tapahtumainfo.fi/tapahtuma/2026/03/anna-sinebrychoff--edell-k-vij/422827'>Tapahtumainfo.fi</a></body></html>
END:VEVENT
END:VCALENDAR
